{"text_format":"3","workbook":"xlsx","n_sheets":8,"sheets":["Açıklama","Veriler","Faaliyet Cetveli","Ek Ödemem Puantaj Cetveli","EK-1 Puantajlı Dağıtım Cetveli","EK-2 Dağıtım Cetveli %30-15 ","EK-3 Dağıtım Cetveli %15","EK-4 Dağıtım Cetveli %15"],"not_rendered":{"images":5,"defined_names":6},"read":"whole","date_system":"1900"}

{"sheet":"Açıklama","index":0,"n_rows":20,"n_cols":2,"rows_kept":20,"merged":[[0,0,0,9],[1,0,1,9],[6,0,6,9],[7,1,7,9],[8,1,8,9],[9,1,9,9],[10,1,10,9],[11,1,11,9],[12,1,12,9],[13,1,13,9],[14,1,14,9],[15,1,15,9],[16,1,16,9],[17,1,17,9],[18,1,18,9],[19,1,19,9]]}
["DÖNER SERMAYE EK ÖDEME DAĞITIMI "]
["HAKKINDA AÇIKLAMALAR"]
[]
["Döner Sermaye gelirlerinin dağıtımında 03.03.2011 tarih ve 27863 sayılı Resmi Gazete'de yayımlanarak"]
["yürürlüğe giren 6114 sayılı Kanunun 17. Maddesi ile değişen 2547 Sayılı Kanunun 58. Maddesi gereği"]
["bundan böyle aşağıda açıklanan usul ve esaslar doğrultusunda ek ödeme dağıtımı yapılacaktır."]
[]
["1. ","2547 Sayılı Kanunun (b) fıkrası gereği \"Ziraat ve veteriner fakülteleri, sivil havacılık yüksekokulu, sürekli eğitim merkezleri ile  bünyesinde atölye veya laboratuvar bulunan yükseköğretim kurumları için asgari yüzde 30' u, diğer yükseköğretim kurumları için ise asgari yüzde 15'i, ilgili yükseköğretim kurumunun ihtiyacı olan mal ve hizmet alımları, her türlü bakım, onarım, kiralama, devam etmekte olan projelerin tamamlanmasına yönelik inşaat işleri ve diğer ihtiyaçlar ile yönetici payları için kullanılır. Bu oranları yüzde 75'ine kadar artırmaya üniversite yönetim kurulu yetkilidir.\" Sürekli Eğitim Merkezi ile bünyesinde atölye ve laboratuvar bulunan birimlerin gelirlerinde %30'luk mal ve hizmet alımları, her türlü bakım, onarım, kiralama, devam etmekte olan projelerin tamamlanmasına yönelik inşaat işleri ve diğer ihtiyaçlar ile yönetici payları için kesinti yapılacaktır.   "]
["2.","Mesai İçi Ek Ödeme Payı Limitleri; (1) Gelir getiren görevlerde çalışan öğretim üyesi ve öğretim görevlilerine aylık (ek gösterge dahil), yan ödeme, ödenek (geliştirme ödeneği hariç) ve 28/3/1983 tarihli ve 2809 sayılı Kanunun geçici 3 üncü maddesinin beşinci fıkrası uyarınca ödenen tazminat dahil,(makam, temsil ve görev tazminatı ile yabancı dil tazminatı hariç) toplamından oluşan ek ödeme matrahının yüzde 800'ünü, araştırma görevlilerine ise yüzde 500'ünü; bu yerlerde görevli olmakla birlikte gelire katkısı olmayan öğretim üyesi ve öğretim görevlilerine yüzde 600'ünü, araştırma görevlilerine ise yüzde 300'ünü, (2) Diğer öğretim elemanlarına ve 657 sayılı Devlet Memurları Kanununa tabi personel (döner sermaye işletme müdürlüğü ve döner sermaye saymanlık personeli dahil) ile aynı Kanunun 4 üncü maddesinin (B) bendine göre sözleşmeli olarak çalışan personele ek ödeme matrahının; hastaneler başmüdürü ve eczacılar için yüzde 250'sini, başhemşireler için yüzde 200'ünü, diğer öğretim elemanları ile diğer personel için yüzde 150'si şeklinde olacaktır."]
["3.","Mesai Dışı Ek Ödeme Payı Limitleri;  \"Nöbet hizmetleri hariç olmak üzere mesai saatleri dışında gelir getirici çalışmalarından doğan katkılarına karşılık olarak (1) numaralı bentte belirtilen personel için yüzde 50'sini, (2) numaralı bentte belirtilen personel için yüzde 20'sini geçmeyecek şekilde ayrıca aylık ek ödeme yapılır.\" yukarıdaki kanun maddesinde de belirtildiği üzere mesai saati dışı ücretleri (1) nolu bend için %50 (Örnek: Öğretim Üyeleri %400), (2) nolu bend için %20 (Örnek: Diğer Öğretim Elemanları;Okutman : %30 ) şeklinde olacaktır."]
["4.","Yönetici Görevi olan Öğretim Üyesi ve Görevlilerinin Çalışma Şekli; 2547 Sayılı Kanunun (f) fıkrası gereği; \"Bu fıkra kapsamında bulunan yöneticilere, mesai saatleri içerisinde verdikleri mesleki hizmetlerinden dolayı ayrıca ek ödeme yapılmaz. Mesai saatleri dışında döner sermaye gelirlerine katkıları bulunması halinde alabilecekleri toplam ek ödeme tutarı, hiçbir şekilde yönetici payı dahil ilgisine göre (c) ve (d)  fıkralarında belirtilen esaslara göre hesaplanacak tutarı geçemez.\" Yönetici pozisyonunda olan Öğretim Üyesi/Görevlileri mesai saatleri içerisinde döner sermaye işi yapamazlar, ancak Mesai Saatleri dışında döner sermaye kapsamında gelir getirici faaliyetlerde bulunabilirler. Bu kapsamda yaptıkları işlerden 3.maddede belirtilen oranlarda ek ödeme alırlar. "]
["5.","Döner Sermaye Kapsamında iş yapan Öğretim Üyesi/Görevlisi Proje Yürütücüsü olarak anılacak olup, Bireysel Gelir Getirici Faaliyet Cetvelinde kendisine ait düzenlemesi gereken bölümde; yapılan işin Mesai Saatleri içerisinde mi? Yoksa mesai saatleri dışında mı? yapıldığına dair işaretlemeleri yapacaklardır. Ayrıca yapılan döner sermaye işinde Üniversite imkanlarının kullanılıp kullanılmadığına dair bölümüde işaretleyip imzalamaları gerekmektedir."]
["6.","Döner Sermaye Kapsamlı olarak yapılan işlerden, Ek Ödeme yapılmak üzere birimizce doldurulacak Bireysel Gelir Getirici Faaliyet Cetvelinde, mesai saatleri içerisinde ve mesai saatleri dışında yapılan işler için birimimiz açısından mesai saati içi ve mesai saati dışı gelirlerinin ayrı ayrı takip edilmesi gerekliliği açısından ikisi içinde ayrı form düzenlenmesi gerekmektedir. "]
["7.","Döner Sermaye Kapsamlı olarak yapılan işlerden, Ek Ödeme yapılmak üzere birimizce doldurulacak Bireysel Gelir Getirici Faaliyet Cetvelinde, Üniversite imkanlarının kullanıldığı işler ve Üniversite imkanlarının kullanılmadığı işler için birimimiz açısından bunların ayrı ayrı takip edilmesi gerekliliği açısından ikisi içinde ayrı form düzenlenmesi gerekmektedir. "]
["8.","Mesai İçi İşlerde B1 Puanı Uygulanır dolayısı ile faaliyet puanı B1 kutucuğuna yazılacaktır. Mesai Dışı işlerde B2 Puanı uygulanır, ve faaliyet puanı B2 kutucuğuna yazılacaktır. Bunlar bir iş için Sadece B1 veya Sadece B2 olabileceği gibi her ikiside olabilir. O halde her iki kutucuğada ilgili puanın yazılması gerekir. Puantaj tutularak hesaplanan puanlar puantaj formundan otomatik olarak aktarılacaktır."]
["9.","Döner Sermaye gelirlerinden yapılacak ek ödemenin hesaplanmasında, 18.02.2011 tarih ve 27850 sayılı Resmi Gazete’de yayımlanarak yürürlüğe giren “Yükseköğretim Kurumlarında Döner Sermaye Gelirlerinden Yapılacak Ek Ödemenin Dağıtılmasında Uygulanacak Usul ve Esaslara İlişkin Yönetmelik”in 5. Maddesi gereği, Üniversitemiz Yönetim Kurulunun Kararı üzerine, Bireysel Gelir Getirici Faaliyet (B) Puanı ; (Mesai içi : B1 ve Mesai Dışı : B2)  puanı kullanılacaktır. "]
["10.","\"2547 Sayılı Kanunun (b) fıkrası gereği \"Ziraat ve veteriner fakülteleri, sivil havacılık yüksekokulu, sürekli eğitim merkezleri ile  bünyesinde atölye veya laboratuvar bulunan yükseköğretim kurumları için asgari yüzde 30' u, diğer yükseköğretim kurumları için ise asgari yüzde 15'i, ilgili yükseköğretim kurumunun ihtiyacı olan mal ve hizmet alımları, her türlü bakım, onarım, kiralama, devam etmekte olan projelerin tamamlanmasına yönelik inşaat işleri ve diğer ihtiyaçlar ile yönetici payları için kullanılır.\" denmekte olup, ayrıca üniversite imkanlarının kullanılmadığı işler içinde bu pay oranı %15 uygulanmaktadır. Dolayısı ile Payı %30 olan birimde görevli öğr.gör. yaptığı işi üniversite imkanlarını kullanmadan yaptığını beyan ederse bu pay %15 olarak uygulanacaktır. "]
["11.","EK-1 ve EK-2 Dağıtım Cetveli; 2547 Sayılı Yükseköğretim Kanununun 58 inci maddesinin ( c ) ve ( d ) bendi kapsamında bulunan birimler tarafından kullanılacaktır."]
["12.","EK-3 Dağıtım Cetveli; 2547 Sayılı Yükseköğretim Kanununun 58 inci maddesinin ( c ) ve ( d ) bendi kapsamı dışındaki birimler ile öğretim elemanlarının üniversite imkanlarını kullanmadan gerçekleştirdikleri hizmetler için (2547 - 58-e) kullanılacaktır."]
["13.","EK-4 Dağıtım Cetveli; 2547 Sayılı Yükseköğretim Kanununun 58 inci maddesinin ( k ) bendi kapsamında gerçekleştirilen hizmetler için kullanılacaktır."]

{"sheet":"Veriler","index":1,"n_rows":21,"n_cols":15,"rows_kept":21,"merged":[[2,1,2,3],[2,5,2,11],[2,13,2,14],[20,4,21,11]]}
[]
[]
[null,"Ek Ödeme Oranları",{"$nulls":3},"Ek Ödeme Matrahı ",{"$nulls":7},"Yönetici Payı Oranları"]
[null,"Ünvanı","Mesai İçi","Mesai Dışı",null,null,"Matraha Esas Unsurlar",{"$nulls":6},"Görevi","Oranı"]
[null,"Prof.Dr.",950,475,null,"1.","Aylık (Ek Gösterge dahil)",{"$nulls":6},"Rektör",600]
[null,"Doç.Dr.",950,475,null,"2.","Yan Ödeme",{"$nulls":6},"Rektör Yardımcısı",300]
[null,"Dr.Öğr.Gör.",950,475,null,"3. ","Ödenek (Geliştirme Ödeneği Hariç)",{"$nulls":6},"Dekan",250]
[null,"Dr.",950,475,null,"3.1.","Üniversite Ödeneği",{"$nulls":6},"Dekan Yardımcısı",100]
[null,"Öğr.Gör.",950,475,null,"3.2. ","İdari Görev Ödeneği",{"$nulls":6},"Müdür ",250]
[null,"Arş.Gör.",600,300,null,"3.3.","Eğitim Öğretim Ödeneği",{"$nulls":6},"Müdür Yardımcısı",100]
[null,"Okutman",150,30,null,"4.","Tazminat (Makam,Temsil,Görev ve Yabancı Dil Tazminatı Hariç)"]
[null,"Uzman",150,30]
[]
[]
[]
[null,"(B) Bireysel Gelir Getirici Faaliyet Puanı :",{"$nulls":3},"Kurum İçinde bireysel gelir getirici faaliyetlerden dolayı alınan mesai içi (B1)"]
[{"$nulls":5},"ve mesai dışı (B2) puanlarının toplamnından oluşan puanlardır."]
[]
[null,"(B) = \"Gelir Getirici Faaliyet Cetveline\" göre alınan toplam puan."]
[]
[null,"Dönem Ek Ödeme Katsayısı :",null,null,"İlgili dönemde tespit edilen ve 1 (bir) puanı ücrete dönüştürmek için kullanılan katsayıdır. İlgili ödeme döneminde dağıtımına karar verilen döner sermaye miktarının, ilgili ödeme döneminde birim bireysel net katkı puanları toplamına bölünmesi sonucu bulunan katsayıyı (Dağıtılabilecek Miktar/Birim Bireysel Net Katkı Puanları Toplamı)"]

{"sheet":"Faaliyet Cetveli","index":2,"n_rows":37,"n_cols":7,"rows_kept":37,"merged":[[2,1,2,6],[3,1,3,6],[4,1,4,6],[5,1,5,6],[7,1,8,1],[7,2,8,2],[7,3,8,3],[7,4,8,4],[9,1,11,1],[12,1,20,1],[12,2,20,2],[12,3,20,3],[21,1,29,1],[22,4,24,4],[25,4,29,4],[30,1,31,1],[30,2,31,2],[30,3,31,3],[30,4,31,4],[30,5,31,5],[30,6,31,6],[32,1,33,1],[32,2,33,2],[32,3,33,3],[32,4,33,4],[32,5,33,5],[32,6,33,6],[34,1,35,1],[34,2,35,2],[34,3,35,3],[34,4,35,4],[34,5,35,5],[34,6,35,6],[36,1,36,5]]}
[]
[]
[null,"T.C."]
[null,"YALOVA ÜNİVERSİTESİ"]
[null,"DÖNER SERMAYE İŞLETME MÜDÜRLÜĞÜ"]
[null," 20.. MALİ YILI GELİR GETİRİCİ FAALİYET CETVELİ"]
[]
[null,"Birim Adı","Faaliyet Türü","Açıklama","Unvan/Görev","Mesai İçi   Puan","Mesai Dışı Puan"]
[{"$nulls":5},"B1","B2"]
[null,"Sürekli Eğitim Uygulama Ve Araştırma Merkezi","Uygulama Dersleri Kurslar/Eğitimler","Bir Ders Saati (45 dk.)","Öğrt.Elm. / Eğitmen",100,100]
[null,null,"Teorik Dersler Kurslar/Eğitimler","Bir Ders Saati (45 dk.)","Öğrt.Elm. / Eğitmen",100,100]
[null,null,"Kurslar Eğitimler","Her Ders Saati İçin 0,15 Ders Ücreti ","Öğrt.Elm. /  Koordinatör",15,15]
[null,"Türkçe Öğretim, Uygulama Ve  Araştırma Merkezi","Türkçe Kursu","Bir Ders Saati İçin","Prof.Dr.",100,100]
[{"$nulls":4},"Doç.Dr.",90,90]
[{"$nulls":4},"Yrd.Doç.Dr.",80,80]
[{"$nulls":4},"Öğrt.Gör.Dr.",75,75]
[{"$nulls":4},"Arş.Gör.Dr.",75,75]
[{"$nulls":4},"Öğrt.Gör.",70,70]
[{"$nulls":4},"Arş.Gör.",60,60]
[{"$nulls":4},"Okutman ",60,60]
[{"$nulls":4},"Uzman",60,60]
[null,"Uzaktan Eğitim Uygulama Ve Araştırma Merkezi","Kurs Koordinatörlüğü","Koordinatörlük yapılan programda ilgili dönemde yürütülen her ders için ayda 4 saat esas alınır.","Öğrt.Elm. / Kurs Koordinatörü ",30,30]
[null,null,"10-20 dk Asenkron Çekimi Seslendirmesi","Her bir 10-20 dakika çekim için 3 saat esas alınır.","Öğrt.Elm. / Eğitmen",30,30]
[null,null,"Senkron ders oturumunun gerçekleştirilmesi","Her bir 50-60 dk asenkron ders için 3 saat esas alınır.",null,30,30]
[null,null,"Yazılı ve Görsel Ham İçeriğin Geliştirilmesi","Her bir 20 sayfa /slayt için 1 saat esas alınır.",null,10,10]
[null,null,"Asenkron Derslerin Geliştirilmesi","Her 5 sayfa/slayt yada 10- 20 dk lık asekron ders için 2 saat esas alınır.","Öğrt.Elm. / Eğitmen Yardımcısı",20,20]
[null,null,"Öğrenme Yönetim Sistemi Konfigürasyonu","Her bir ders için 3 saat esas alınır.",null,10,10]
[null,null,"Senkron Ders Oturumlarının Denetimi ve Gözlenmesi","Her bir sanal ders oturumu için 1 saat esas alınır.",null,5,5]
[null,null,"Ders Koordinasyonu ve Denetimi","Her bir ders için 2 saat esas alınır.",null,10,10]
[null,null,"Çevrimiçi Değerlendirme Koordinasyonu","Her bir ders için 2 saat esas alınır.",null,10,10]
[null,"Mühendislik Fakültesi","Laboratuvar Analiz / Deney / Test Uygulaması","Uygulama Başına","Öğretim Elemanı",100,100]
[]
[null,"İleri Teknolojiler Uygulama Ve Araştırma Merkezi","Laboratuvar Analiz / Deney / Test Uygulaması","Uygulama Başına","Öğretim Elemanı",100,100]
[]
[null,"Gıda Kontrol Uygulama Ve Araştırma Merkezi","Laboratuvar Analiz / Deney / Test Uygulaması","Uygulama Başına","Öğretim Elemanı",100,100]
[]
[null,"……. 2019 TARİH VE ….  SAYLI ÜNİVERSİTE YÖNETİM KURULU KARARI "]

{"sheet":"Ek Ödemem Puantaj Cetveli","index":3,"n_rows":42,"n_cols":50,"rows_kept":42,"merged":[[0,0,0,49],[1,0,1,49],[2,0,2,49],[4,0,4,49],[5,46,5,49],[6,2,6,18],[6,46,6,49],[7,39,7,44],[7,48,7,49],[8,0,10,2],[8,3,13,3],[8,4,13,4],[8,5,10,25],[8,26,10,44],[8,45,13,45],[8,46,13,46],[8,47,13,47],[8,48,10,49],[11,0,13,0],[11,1,13,1],[11,2,13,2],[11,5,11,12],[11,13,11,20],[11,21,11,28],[11,29,11,36],[11,37,11,44],[11,48,12,48],[11,49,12,49],[12,12,13,12],[12,20,13,20],[12,28,13,28],[12,36,13,36],[12,44,13,44],[14,0,15,0],[14,1,15,1],[14,2,15,2],[14,3,15,3],[14,46,15,46],[14,48,15,48],[14,49,15,49],[16,0,17,0],[16,1,17,1],[16,2,17,2],[16,3,17,3],[16,46,17,46],[16,48,17,48],[16,49,17,49],[18,0,19,0],[18,1,19,1],[18,2,19,2],[18,3,19,3],[18,46,19,46],[18,48,19,48],[18,49,19,49],[20,0,21,0],[20,1,21,1],[20,2,21,2],[20,3,21,3],[20,46,21,46],[20,48,21,48],[20,49,21,49],[22,0,23,0],[22,1,23,1],[22,2,23,2],[22,3,23,3],[22,46,23,46],[22,48,23,48],[22,49,23,49],[24,0,25,0],[24,1,25,1],[24,2,25,2],[24,3,25,3],[24,46,25,46],[24,48,25,48],[24,49,25,49],[26,0,27,0],[26,1,27,1],[26,2,27,2],[26,3,27,3],[26,46,27,46],[26,48,27,48],[26,49,27,49],[28,0,29,0],[28,1,29,1],[28,2,29,2],[28,3,29,3],[28,46,29,46],[28,48,29,48],[28,49,29,49],[30,0,31,0],[30,1,31,1],[30,2,31,2],[30,3,31,3],[30,46,31,46],[30,48,31,48],[30,49,31,49],[32,0,33,0],[32,1,33,1],[32,2,33,2],[32,3,33,3],[32,46,33,46],[32,48,33,48],[32,49,33,49],[34,0,35,11],[34,12,35,12],[34,13,35,19],[34,20,35,20],[34,21,35,27],[34,28,35,28],[34,29,35,35],[34,36,35,36],[34,37,35,43],[34,44,35,44],[34,45,35,45],[34,46,35,46],[34,47,35,47],[35,48,35,49],[37,13,37,20],[37,46,37,49],[38,14,38,20],[38,28,38,30],[38,32,38,40],[38,43,38,45],[38,48,38,49],[39,14,39,20],[39,28,39,30],[39,32,39,40],[39,43,39,45],[39,48,39,49],[40,28,40,30],[40,43,40,45],[41,14,41,20]]}
["T.C."]
["YALOVA ÜNİVERSİTESİ",{"$nulls":4},"KIRKLARELİ ÜNİVERSİTESİ FEN EDEBİYAT FAKÜLTESİ"]
["BİRİM ADI YAZILACAK",{"$nulls":4},"2014-2015 PEDAGOJİK FORMASYON SERTİFİKA EĞİTİMİ PROGRAMI"]
[]
["İŞİN ADI YAZILACAK EK ÖDEME PUANTAJ CETVELİ"]
[{"$nulls":46},"Ait Olduğu Ay :"]
[{"$nulls":46},"Bütçe Yılı : 20…"]
[]
["ÖĞRETİM ELEMANININ",null,null,"Faaliyet Türü","Mesai Durumu","Başlama Tarihi:.../.../20...",{"$nulls":20},"Bitiş Tarihi:.../.../20...",null,null,"Bitiş Tarihi :31/10/2014",{"$nulls":15},"Mesai Saati     Toplamı","Toplam Saat ","Birim Faaliyet Puanı","TOPLAM FAALİYET PUANI"]
[]
[]
["S.No","ÜNVANI","ADI VE SOYADI ",null,null,"AY / 1.Hafta ",{"$nulls":7},"AY / 2.Hafta ",{"$nulls":7},"AY / 3.Hafta ",{"$nulls":7},"AY / 4.Hafta ",{"$nulls":7},"AY / 5.Hafta ",{"$nulls":10},"B1","B2"]
[{"$nulls":5},"Pt.","Sa ","Ça","Pe ","Cu","Ct.","Pz.","Toplam","Pt.","Sa ","Ça","Pe ","Cu","Ct.","Pz.","Toplam","Pt.","Sa ","Ça","Pe ","Cu","Ct.","Pz.","Toplam","Pt.","Sa ","Ça","Pe ","Cu","Ct.","Pz.","Toplam","Pt.","Sa ","Ça","Pe","Cu","Ct.","Pz.","Toplam"]
[{"$nulls":5},1,2,3,4,5,6,7,null,8,9,10,11,12,13,14,null,15,16,17,18,19,20,21,null,22,23,24,25,26,27,28,null,29,30,31,1,2,3,4,{"$nulls":4},"Mesai İçi","Mesai Dışı"]
[1,"Doç.Dr.","Örnek KİŞİ A","Uygulama Dersleri Kurslar/Eğitimler","Mesai İçi","X","X","X","X","X","X","X",{"$f":"SUM(F15:L15)","v":0},"X","X","X","X","X","X","X",{"$f":"SUM(N15:T15)","v":0},"X","X","X","X","X","X","X",{"$f":"SUM(V15:AB15)","v":0},"X","X","X","X","X","X","X",{"$f":"SUM(AD15:AJ15)","v":0},"X","X","X","X","X","X","X",{"$f":"SUM(AL15:AR15)","v":0},{"$f":"M15+U15+AC15+AK15+AS15","v":0},{"$f":"AT15+AT16","v":66},{"$f":"VLOOKUP(D15,'Faaliyet Cetveli'!$C$10:$F$36,4,FALSE)","v":100},{"$f":"(AT15*AV15)","v":0},{"$f":"(AT16*AV16)","v":{"v":6600,"d":"6,600"}}]
[{"$nulls":4},"Mesai Dışı","X","X","X",8,4,"X","X",{"$f":"SUM(F16:L16)","v":12},"X","X","X","X","X",8,8,{"$f":"SUM(N16:T16)","v":16},"X","X","X","X","X",8,8,{"$f":"SUM(V16:AB16)","v":16},"X","X","X","X","X",8,8,{"$f":"SUM(AD16:AJ16)","v":16},"X","X","X","X",6,"X","X",{"$f":"SUM(AL16:AR16)","v":6},{"$f":"M16+U16+AC16+AK16+AS16","v":66},null,{"$f":"VLOOKUP(D15,'Faaliyet Cetveli'!$C$10:$G$36,5,FALSE)","v":100}]
[2,"Doç.Dr.","Örnek KİŞİ B","Teorik Dersler Kurslar/Eğitimler","Mesai İçi","X","X","X","X","X","X","X",{"$f":"SUM(F17:L17)","v":0},"X","X","X","X","X","X","X",{"$f":"SUM(N17:T17)","v":0},"X","X","X","X","X","X","X",{"$f":"SUM(V17:AB17)","v":0},"X","X","X","X","X","X","X",{"$f":"SUM(AD17:AJ17)","v":0},"X","X","X","X","X","X","X",{"$f":"SUM(AL17:AR17)","v":0},{"$f":"M17+U17+AC17+AK17+AS17","v":0},{"$f":"AT17+AT18","v":22},{"$f":"VLOOKUP(D17,'Faaliyet Cetveli'!$C$10:$F$36,4,FALSE)","v":100},{"$f":"(AT17*AV17)","v":0},{"$f":"(AT18*AV18)","v":{"v":2200,"d":"2,200"}}]
[{"$nulls":4},"Mesai Dışı","X","X","X",4,2,"X","X",6,"X","X",4,"X","X","X","X",4,"X","X",4,"X","X","X","X",4,"X","X",4,"X","X","X","X",4,"X","X",4,"X","X","X","X",4,22,null,{"$f":"VLOOKUP(D17,'Faaliyet Cetveli'!$C$10:$G$36,5,FALSE)","v":100}]
[3,null,null,"Uygulama Dersleri Kurslar/Eğitimler","Mesai İçi","X","X","X","X","X","X","X",0,"X","X","X","X","X","X","X",0,"X","X","X","X","X","X","X",0,"X","X","X","X","X","X","X",0,"X","X","X","X","X","X","X",0,0,{"$f":"AT19+AT20","v":0},{"$f":"VLOOKUP(D19,'Faaliyet Cetveli'!$C$10:$F$36,4,FALSE)","v":100},{"$f":"(AT19*AV19)","v":0},{"$f":"(AT20*AV20)","v":0}]
[{"$nulls":4},"Mesai Dışı","X","X","X","X","X","X","X",0,"X","X","X","X","X","X","X",0,"X","X","X","X","X","X","X",0,"X","X","X","X","X","X","X",0,"X","X","X","X","X","X","X",0,0,null,{"$f":"VLOOKUP(D19,'Faaliyet Cetveli'!$C$10:$G$36,5,FALSE)","v":100}]
[4,null,null,"Uygulama Dersleri Kurslar/Eğitimler","Mesai İçi","X","X","X","X","X","X","X",0,"X","X","X","X","X","X","X",0,"X","X","X","X","X","X","X",0,"X","X","X","X","X","X","X",0,"X","X","X","X","X","X","X",0,0,{"$f":"AT21+AT22","v":0},{"$f":"VLOOKUP(D21,'Faaliyet Cetveli'!$C$10:$F$36,4,FALSE)","v":100},{"$f":"(AT21*AV21)","v":0},{"$f":"(AT22*AV22)","v":0}]
[{"$nulls":4},"Mesai Dışı","X","X","X","X","X","X","X",0,"X","X","X","X","X","X","X",0,"X","X","X","X","X","X","X",0,"X","X","X","X","X","X","X",0,"X","X","X","X","X","X","X",0,0,null,{"$f":"VLOOKUP(D21,'Faaliyet Cetveli'!$C$10:$G$36,5,FALSE)","v":100}]
[5,null,null,"Uygulama Dersleri Kurslar/Eğitimler","Mesai İçi","X","X","X","X","X","X","X",0,"X","X","X","X","X","X","X",0,"X","X","X","X","X","X","X",0,"X","X","X","X","X","X","X",0,"X","X","X","X","X","X","X",0,0,{"$f":"AT23+AT24","v":0},{"$f":"VLOOKUP(D23,'Faaliyet Cetveli'!$C$10:$F$36,4,FALSE)","v":100},{"$f":"(AT23*AV23)","v":0},{"$f":"(AT24*AV24)","v":0}]
[{"$nulls":4},"Mesai Dışı","X","X","X","X","X","X","X",0,"X","X","X","X","X","X","X",0,"X","X","X","X","X","X","X",0,"X","X","X","X","X","X","X",0,"X","X","X","X","X","X","X",0,0,null,{"$f":"VLOOKUP(D23,'Faaliyet Cetveli'!$C$10:$G$36,5,FALSE)","v":100}]
[6,null,null,"Uygulama Dersleri Kurslar/Eğitimler","Mesai İçi","X","X","X","X","X","X","X",0,"X","X","X","X","X","X","X",0,"X","X","X","X","X","X","X",0,"X","X","X","X","X","X","X",0,"X","X","X","X","X","X","X",0,0,{"$f":"AT25+AT26","v":0},{"$f":"VLOOKUP(D25,'Faaliyet Cetveli'!$C$10:$F$36,4,FALSE)","v":100},{"$f":"(AT25*AV25)","v":0},{"$f":"(AT26*AV26)","v":0}]
[{"$nulls":4},"Mesai Dışı","X","X","X","X","X","X","X",0,"X","X","X","X","X","X","X",0,"X","X","X","X","X","X","X",0,"X","X","X","X","X","X","X",0,"X","X","X","X","X","X","X",0,0,null,{"$f":"VLOOKUP(D25,'Faaliyet Cetveli'!$C$10:$G$36,5,FALSE)","v":100}]
[7,null,null,"Uygulama Dersleri Kurslar/Eğitimler","Mesai İçi","X","X","X","X","X","X","X",0,"X","X","X","X","X","X","X",0,"X","X","X","X","X","X","X",0,"X","X","X","X","X","X","X",0,"X","X","X","X","X","X","X",0,0,{"$f":"AT27+AT28","v":0},{"$f":"VLOOKUP(D27,'Faaliyet Cetveli'!$C$10:$F$36,4,FALSE)","v":100},{"$f":"(AT27*AV27)","v":0},{"$f":"(AT28*AV28)","v":0}]
[{"$nulls":4},"Mesai Dışı","X","X","X","X","X","X","X",0,"X","X","X","X","X","X","X",0,"X","X","X","X","X","X","X",0,"X","X","X","X","X","X","X",0,"X","X","X","X","X","X","X",0,0,null,{"$f":"VLOOKUP(D27,'Faaliyet Cetveli'!$C$10:$G$36,5,FALSE)","v":100}]
[8,null,null,"Uygulama Dersleri Kurslar/Eğitimler","Mesai İçi","X","X","X","X","X","X","X",0,"X","X","X","X","X","X","X",0,"X","X","X","X","X","X","X",0,"X","X","X","X","X","X","X",0,"X","X","X","X","X","X","X",0,0,{"$f":"AT29+AT30","v":0},{"$f":"VLOOKUP(D29,'Faaliyet Cetveli'!$C$10:$F$36,4,FALSE)","v":100},{"$f":"(AT29*AV29)","v":0},{"$f":"(AT30*AV30)","v":0}]
[{"$nulls":4},"Mesai Dışı","X","X","X","X","X","X","X",0,"X","X","X","X","X","X","X",0,"X","X","X","X","X","X","X",0,"X","X","X","X","X","X","X",0,"X","X","X","X","X","X","X",0,0,null,{"$f":"VLOOKUP(D29,'Faaliyet Cetveli'!$C$10:$G$36,5,FALSE)","v":100}]
[9,null,null,"Uygulama Dersleri Kurslar/Eğitimler","Mesai İçi","X","X","X","X","X","X","X",0,"X","X","X","X","X","X","X",0,"X","X","X","X","X","X","X",0,"X","X","X","X","X","X","X",0,"X","X","X","X","X","X","X",0,0,{"$f":"AT31+AT32","v":0},{"$f":"VLOOKUP(D31,'Faaliyet Cetveli'!$C$10:$F$36,4,FALSE)","v":100},{"$f":"(AT31*AV31)","v":0},{"$f":"(AT32*AV32)","v":0}]
[{"$nulls":4},"Mesai Dışı","X","X","X","X","X","X","X",0,"X","X","X","X","X","X","X",0,"X","X","X","X","X","X","X",0,"X","X","X","X","X","X","X",0,"X","X","X","X","X","X","X",0,0,null,{"$f":"VLOOKUP(D31,'Faaliyet Cetveli'!$C$10:$G$36,5,FALSE)","v":100}]
[10,null,null,"Uygulama Dersleri Kurslar/Eğitimler","Mesai İçi","X","X","X","X","X","X","X",0,"X","X","X","X","X","X","X",0,"X","X","X","X","X","X","X",0,"X","X","X","X","X","X","X",0,"X","X","X","X","X","X","X",0,0,{"$f":"AT33+AT34","v":0},{"$f":"VLOOKUP(D33,'Faaliyet Cetveli'!$C$10:$F$36,4,FALSE)","v":100},{"$f":"(AT33*AV33)","v":0},{"$f":"(AT34*AV34)","v":0}]
[{"$nulls":4},"Mesai Dışı","X","X","X","X","X","X","X",0,"X","X","X","X","X","X","X",0,"X","X","X","X","X","X","X",0,"X","X","X","X","X","X","x",0,"X","X","X","X","X","X","X",0,0,null,{"$f":"VLOOKUP(D33,'Faaliyet Cetveli'!$C$10:$G$36,5,FALSE)","v":100}]
["TOPLAM",{"$nulls":11},{"$f":"SUM(M15:M33)","v":18},{"$nulls":7},{"$f":"SUM(U15:U33)","v":20},{"$nulls":7},{"$f":"SUM(AC15:AC33)","v":20},{"$nulls":7},{"$f":"SUM(AK15:AK33)","v":20},{"$nulls":7},{"$f":"SUM(AS15:AS33)","v":10},{"$f":"SUM(AT15:AT33)","v":88},{"$f":"SUM(AU15:AU33)","v":88},null,{"$f":"SUM(AW14:AW33)","v":0},{"$f":"SUM(AX14:AX33)","v":{"v":8800,"d":"8,800"}}]
[{"$nulls":48},{"$f":"AW35+AX35","v":{"v":8800,"d":"8,800"}}]
[]
[null,"Kısaltmalar",null,"Cu-Cuma",{"$nulls":9},"Semboller",{"$nulls":20},"Düzenleyen",{"$nulls":11},"Onaylayan"]
[null,"Pt-Pazartesi",null,"Ct-Cumartesi",{"$nulls":9},"*","İzinli-Raporlu Öğr.Elemanı",{"$nulls":13},"Adı ve Soyadı",null,null,":",{"$nulls":11},"Adı ve Soyadı",null,null,":"]
[null,"Sa-Salı",null,"T-Toplam",{"$nulls":9},"+","Gerçek haftalık ders saati",{"$nulls":13},"Ünvanı    ",null,null,":",{"$nulls":11},"Ünvanı    ",null,null,":"]
[null,"Ça-Çarşamba",null,"Zd-Haftalık Zorunlu Ders Toplamı",{"$nulls":9},"@",{"$nulls":3},"Kesilmiş haftalık ders saati",{"$nulls":10},"İmza",null,null,":",{"$nulls":11},"İmza",null,null,":"]
[null,"Pe-Perşembe ",null,"öd-Haftalık Ücretli Ders Toplamı",{"$nulls":9},"-","İşleme alınmayan gün"]

{"sheet":"EK-1 Puantajlı Dağıtım Cetveli","index":4,"n_rows":56,"n_cols":28,"rows_kept":56,"merged":[[2,1,2,27],[3,1,3,27],[4,1,4,27],[5,1,5,27],[6,1,6,27],[8,1,10,1],[8,2,10,3],[8,4,10,5],[8,6,10,6],[8,7,10,9],[8,10,10,11],[8,12,10,14],[8,15,10,16],[8,17,9,20],[8,21,9,27],[10,17,10,18],[10,19,10,20],[10,21,10,22],[10,23,10,24],[10,25,10,26],[11,2,12,2],[11,3,12,3],[11,7,12,9],[11,10,12,11],[11,12,12,14],[11,15,12,16],[11,17,11,20],[11,21,12,22],[11,23,12,24],[11,25,12,26],[11,27,12,27],[12,4,12,5],[12,17,12,18],[12,19,12,20],[13,4,13,5],[13,7,13,9],[13,10,13,11],[13,12,13,14],[13,15,13,16],[13,17,13,18],[13,19,13,20],[13,21,13,22],[13,23,13,24],[13,25,13,26],[14,4,14,5],[14,7,14,9],[14,10,14,11],[14,12,14,14],[14,15,14,16],[14,17,14,18],[14,19,14,20],[14,21,14,22],[14,23,14,24],[14,25,14,26],[15,4,15,5],[15,7,15,9],[15,10,15,11],[15,12,15,14],[15,15,15,16],[15,17,15,18],[15,19,15,20],[15,21,15,22],[15,23,15,24],[15,25,15,26],[16,4,16,5],[16,7,16,9],[16,10,16,11],[16,12,16,14],[16,15,16,16],[16,17,16,18],[16,19,16,20],[16,21,16,22],[16,23,16,24],[16,25,16,26],[17,4,17,5],[17,7,17,9],[17,10,17,11],[17,12,17,14],[17,15,17,16],[17,17,17,18],[17,19,17,20],[17,21,17,22],[17,23,17,24],[17,25,17,26],[18,1,18,5],[18,7,18,9],[18,10,18,11],[18,12,18,14],[18,15,18,16],[18,17,18,18],[18,19,18,20],[18,21,18,22],[18,23,18,24],[18,25,18,26],[19,1,19,27],[20,1,23,1],[20,2,23,3],[20,4,23,5],[20,6,23,6],[20,7,23,9],[20,10,23,11],[20,12,23,13],[20,14,23,15],[20,16,23,16],[20,17,23,18],[20,19,23,19],[20,20,23,20],[20,21,23,21],[20,22,23,22],[20,23,23,23],[20,24,22,24],[20,25,23,25],[20,26,22,26],[20,27,23,27],[24,2,24,3],[24,4,24,5],[24,7,24,9],[24,10,24,11],[24,12,24,13],[24,14,24,15],[24,17,24,18],[25,2,25,3],[25,4,25,5],[25,7,25,9],[25,10,25,11],[25,12,25,13],[25,14,25,15],[25,17,25,18],[26,2,26,3],[26,4,26,5],[26,7,26,9],[26,10,26,11],[26,12,26,13],[26,14,26,15],[26,17,26,18],[27,2,27,3],[27,4,27,5],[27,7,27,9],[27,10,27,11],[27,12,27,13],[27,14,27,15],[27,17,27,18],[28,2,28,3],[28,4,28,5],[28,7,28,9],[28,10,28,11],[28,12,28,13],[28,14,28,15],[28,17,28,18],[29,2,29,3],[29,4,29,5],[29,7,29,9],[29,10,29,11],[29,12,29,13],[29,14,29,15],[29,17,29,18],[30,2,30,3],[30,4,30,5],[30,7,30,9],[30,10,30,11],[30,12,30,13],[30,14,30,15],[30,17,30,18],[31,2,31,3],[31,4,31,5],[31,7,31,9],[31,10,31,11],[31,12,31,13],[31,14,31,15],[31,17,31,18],[32,2,32,3],[32,4,32,5],[32,7,32,9],[32,10,32,11],[32,12,32,13],[32,14,32,15],[32,17,32,18],[33,2,33,3],[33,4,33,5],[33,7,33,9],[33,10,33,11],[33,12,33,13],[33,14,33,15],[33,17,33,18],[34,1,34,18],[35,1,35,27],[38,2,38,4],[38,6,38,9],[39,2,39,4],[39,6,39,9],[42,2,42,10],[42,15,42,27],[43,2,43,10],[43,16,43,27],[44,1,44,14],[44,15,44,27],[45,2,45,10],[45,16,45,27],[50,2,50,10],[50,16,50,27],[51,2,51,10],[51,16,51,27],[52,1,52,14],[52,15,52,27],[53,15,53,27],[55,1,55,27]]}
[null,"AÇIKLAMA : BU ÖDEME CETVELİ PUANTAJ DÜZENLENEREK YAPILACAK ÖDEMELERDE KULLANILACAKTIR. PUAN BİLGİLERİ PUANTAJ CETVELİNDEN OTOMATİK OLARAK AKTARILACAKTIR."]
[]
[null,"T.C. "]
[null,"YALOVA ÜNİVERSİTESİ"]
[null,"FAKÜLTE/ENSTİTÜ/YÜKSEKOKUL/EĞİTİM MERKEZİ"]
[null,"DÖNER SERMAYE ÜCRET DAĞITIM CETVELİ"]
[]
[{"$nulls":27},"EK-1"]
[null,"S.NO","MAKBUZ / DEKONT",null,"FİRMA / KİŞİ ADI",null,"YATAN TUTAR","KDV",null,null,"KDV'SİZ TUTAR",null,"HAZİNE PAYI",null,null,"BAP PAYI",null,"MAL/HİZMET ALIMLARI İLE DİĞER İHTİYAÇLAR VE YÖNETİCİ PAYI İÇİN AYRILAN",{"$nulls":3},"ÖĞRETİM ELEMANI PAYI"]
[]
[{"$nulls":17},"REKTÖRLÜK PAYI",null,"BİRİM PAYI",null,"TOPLAM PUAN (B1+B2)",null,{"$f":"T35+U35","v":{"v":8800,"d":"8,800"}},null,"EK ÖDEME KATSAYISI",null,{"$f":"Z19/X11","v":{"v":0.07272727272727271,"d":"0.07 "}}]
[null,null,"TARİH","NO",{"$nulls":3},1.08,null,null,{"v":1,"d":"100%"},null,{"v":0.01,"d":"1%"},null,null,{"v":0.05,"d":"5%"},null,{"v":0.3,"d":"30%"},{"$nulls":3},{"$f":"K12-(M12+P12+R13+T13)","v":{"v":0.64,"d":"64%"}},null,"ÖDENMİŞ HAKEDİŞ",null,"ÖDENECEK HAKEDİŞ",null,"KALAN TUTAR"]
[{"$nulls":17},{"v":0.1,"d":"10%"},null,{"v":0.2,"d":"20%"}]
[null,"1.","2017-01-01","xxxxx","FİRMA / KİŞİ ADI",null,{"v":1080,"d":"1,080.00 "},{"$f":"G14-K14","v":{"v":80.00000000000011,"d":"80.00 "}},null,null,{"$f":"G14/H$12","v":{"v":999.9999999999999,"d":"1,000.00 "}},null,{"$f":"$K14*M$12","v":{"v":9.999999999999998,"d":"10.00 "}},null,null,{"$f":"$K14*P$12","v":{"v":50,"d":"50.00 "}},null,{"$f":"$K14*R$13","v":{"v":100,"d":"100.00 "}},null,{"$f":"$K14*T$13","v":{"v":200,"d":"200.00 "}},null,{"$f":"K14*V12","v":{"v":639.9999999999999,"d":"640.00 "}},null,0,null,{"$f":"V14-X14","v":{"v":639.9999999999999,"d":"640.00 "}},null,{"$f":"V14-Z14","v":0}]
[null,"2.",{"$nulls":5},{"$f":"G15-K15","v":0},null,null,{"$f":"G15/H$12","v":0},null,{"$f":"$K15*M$12","v":0},null,null,{"$f":"$K15*P$12","v":0},null,{"$f":"$K15*R$13","v":0},null,{"$f":"$K15*T$13","v":0},null,{"$f":"K15*V13","v":0},null,0,null,{"$f":"V15-X15","v":0},null,{"$f":"V15-Z15","v":0}]
[null,"3.",{"$nulls":5},{"$f":"G16-K16","v":0},null,null,{"$f":"G16/H$12","v":0},null,{"$f":"$K16*M$12","v":0},null,null,{"$f":"$K16*P$12","v":0},null,{"$f":"$K16*R$13","v":0},null,{"$f":"$K16*T$13","v":0},null,{"$f":"K16*V14","v":0},null,0,null,{"$f":"V16-X16","v":0},null,{"$f":"V16-Z16","v":0}]
[null,"4.",{"$nulls":4},0,{"$f":"G17-K17","v":0},null,null,{"$f":"G17/H$12","v":0},null,{"$f":"$K17*M$12","v":0},null,null,{"$f":"$K17*P$12","v":0},null,{"$f":"$K17*R$13","v":0},null,{"$f":"$K17*T$13","v":0},null,{"$f":"K17*V15","v":0},null,0,null,{"$f":"V17-X17","v":0},null,{"$f":"V17-Z17","v":0}]
[null,"5.",{"$nulls":4},0,{"$f":"G18-K18","v":0},null,null,{"$f":"G18/H$12","v":0},null,{"$f":"$K18*M$12","v":0},null,null,{"$f":"K18*P$12","v":0},null,{"$f":"$K18*R$13","v":0},null,{"$f":"$K18*T$13","v":0},null,{"$f":"K18*V16","v":0},null,0,null,{"$f":"V18-X18","v":0},null,{"$f":"V18-Z18","v":0}]
[null,"TOPLAM",{"$nulls":4},{"$f":"SUM(G14:G18)","v":{"v":1080,"d":"1,080.00 "}},{"$f":"SUM(H14:H18)","v":{"v":80.00000000000011,"d":"80.00 "}},null,null,{"$f":"SUM(K14:K18)","v":{"v":999.9999999999999,"d":"1,000.00 "}},null,{"$f":"SUM(M14:O18)","v":{"v":9.999999999999998,"d":"10.00 "}},null,null,{"$f":"SUM(P14:P18)","v":{"v":50,"d":"50.00 "}},null,{"$f":"SUM(R14:R18)","v":{"v":100,"d":"100.00 "}},null,{"$f":"SUM(T14:T18)","v":{"v":200,"d":"200.00 "}},null,{"$f":"SUM(V14:W18)","v":{"v":639.9999999999999,"d":"640.00 "}},null,{"$f":"SUM(X14:Y18)","v":0},null,{"$f":"SUM(Z14:Z18)","v":{"v":639.9999999999999,"d":"640.00 "}},null,{"$f":"SUM(AB14:AB18)","v":0}]
[]
[null,"S.NO","ADI SOYADI",null,"TC KİMLİK NO",null,"KADRO TİPİ","ÜNVANI",null,null,"EK ÖDEME MATRAHI",null,"MESAİ İÇİ TAVAN   ORAN (%)",null,"MESAİ İÇİ         MATRAHI                 B1",null,"MESAİ DIŞI TAVAN ORAN (%) ","MESAİ DIŞI MATRAHI              B2",null,"B1     PUANI","B2     PUANI","TOPLAM PUAN    B1+B2","EK ÖDEME KATSAYISI","ÖDENECEK         BRÜT TUTAR                       B1","TOPLAM TUTARA ORANI (%)","ÖDENECEK    BRÜT TUTAR                       B2","TOPLAM TUTARA ORANI (%)","ÖDENECEK BRÜT             EK ÖDEME TOPLAMI"]
[]
[]
[{"$nulls":24},"B1",null,"B2"]
[null,"1.","Örnek KİŞİ A",null,"xxxxxxxxxxxxx",null,2547,"Doç.Dr.",null,null,{"v":2000,"d":"2,000.00 "},null,{"$f":"IF(H25<>\"\",VLOOKUP(H25,Veriler!$B$4:$D$12,2,FALSE),0)","v":{"v":950,"d":"950 "}},null,{"$f":"K25*M25%","v":{"v":19000,"d":"19,000.00 "}},null,{"$f":"IF(H25<>\"\",VLOOKUP(H25,Veriler!$B$4:$D$12,3,FALSE),0)","v":{"v":475,"d":"475 "}},{"$f":"K25*Q25%","v":{"v":9500,"d":"9,500.00 "}},null,{"$f":"'Ek Ödemem Puantaj Cetveli'!AW15","v":0},{"$f":"'Ek Ödemem Puantaj Cetveli'!AX15","v":{"v":6600,"d":"6,600 "}},{"$f":"IF(T25+U25>0,T25+U25,\"-\")","v":{"v":6600,"d":"6,600 "}},{"$f":"IF(V25=\"-\",\"-\",AB$11)","v":{"v":0.07272727272727271,"d":"0.07"}},{"$f":"IF(T25=0,\"-\",T25*W25)","v":"-"},{"$f":"IF(T25=0,\"-\",X25/Z$19*100)","v":"-"},{"$f":"IF(U25=0,\"-\",U25*W25)","v":{"v":479.9999999999999,"d":"480.00 "}},{"$f":"IF(U25=0,\"-\",Z25/Z$19*100)","v":{"v":75,"d":"75.0000"}},{"$f":"IF(X25=\"-\",IF(Z25=\"-\",\"-\",Z25),IF(Z25=\"-\",X25,Z25+X25))","v":{"v":479.9999999999999,"d":"480.00 "}}]
[null,"2.","Örnek KİŞİ B",null,"xxxxxxxxxxxxx",null,2547,"Doç.Dr.",null,null,{"v":2000,"d":"2,000.00 "},null,{"$f":"IF(H26<>\"\",VLOOKUP(H26,Veriler!$B$4:$D$12,2,FALSE),0)","v":{"v":950,"d":"950 "}},null,{"$f":"K26*M26%","v":{"v":19000,"d":"19,000.00 "}},null,{"$f":"IF(H26<>\"\",VLOOKUP(H26,Veriler!$B$4:$D$12,3,FALSE),0)","v":{"v":475,"d":"475 "}},{"$f":"K26*Q26%","v":{"v":9500,"d":"9,500.00 "}},null,{"$f":"'Ek Ödemem Puantaj Cetveli'!AW17","v":0},{"$f":"'Ek Ödemem Puantaj Cetveli'!AX17","v":{"v":2200,"d":"2,200 "}},{"$f":"IF(T26+U26>0,T26+U26,\"-\")","v":{"v":2200,"d":"2,200 "}},{"v":0.07272727272727271,"d":"0.07"},{"$f":"IF(T26=0,\"-\",T26*W26)","v":"-"},{"$f":"IF(T26=0,\"-\",X26/Z$19*100)","v":"-"},{"$f":"IF(U26=0,\"-\",U26*W26)","v":{"v":159.99999999999997,"d":"160.00 "}},{"$f":"IF(U26=0,\"-\",Z26/Z$19*100)","v":{"v":25,"d":"25.0000"}},{"v":159.99999999999997,"d":"160.00 "}]
[null,"3.",{"$nulls":10},{"$f":"IF(H27<>\"\",VLOOKUP(H27,Veriler!$B$4:$D$12,2,FALSE),0)","v":0},null,0,null,{"$f":"IF(H27<>\"\",VLOOKUP(H27,Veriler!$B$4:$D$12,3,FALSE),0)","v":0},0,null,{"$f":"'Ek Ödemem Puantaj Cetveli'!AW19","v":0},{"$f":"'Ek Ödemem Puantaj Cetveli'!AX19","v":0},"-","-","-",{"$f":"IF(T27=0,\"-\",X27/Z$19*100)","v":"-"},{"$f":"IF(U27=0,\"-\",U27*W27)","v":"-"},"-","-"]
[null,"4.",{"$nulls":10},{"$f":"IF(H28<>\"\",VLOOKUP(H28,Veriler!$B$4:$D$12,2,FALSE),0)","v":0},null,{"$f":"K28*M28%","v":0},null,{"$f":"IF(H28<>\"\",VLOOKUP(H28,Veriler!$B$4:$D$12,3,FALSE),0)","v":0},0,null,{"$f":"'Ek Ödemem Puantaj Cetveli'!AW21","v":0},{"$f":"'Ek Ödemem Puantaj Cetveli'!AX21","v":0},"-","-","-",{"$f":"IF(T28=0,\"-\",X28/Z$19*100)","v":"-"},{"$f":"IF(U28=0,\"-\",U28*W28)","v":"-"},"-","-"]
[null,"5.",{"$nulls":10},{"$f":"IF(H29<>\"\",VLOOKUP(H29,Veriler!$B$4:$D$12,2,FALSE),0)","v":0},null,{"$f":"K29*M29%","v":0},null,{"$f":"IF(H29<>\"\",VLOOKUP(H29,Veriler!$B$4:$D$12,3,FALSE),0)","v":0},0,null,{"$f":"'Ek Ödemem Puantaj Cetveli'!AW23","v":0},{"$f":"'Ek Ödemem Puantaj Cetveli'!AX23","v":0},"-","-","-",{"$f":"IF(T29=0,\"-\",X29/Z$19*100)","v":"-"},{"$f":"IF(U29=0,\"-\",U29*W29)","v":"-"},"-","-"]
[null,"6.",{"$nulls":10},{"$f":"IF(H30<>\"\",VLOOKUP(H30,Veriler!$B$4:$D$12,2,FALSE),0)","v":0},null,0,null,{"$f":"IF(H30<>\"\",VLOOKUP(H30,Veriler!$B$4:$D$12,3,FALSE),0)","v":0},0,null,{"$f":"'Ek Ödemem Puantaj Cetveli'!AW25","v":0},{"$f":"'Ek Ödemem Puantaj Cetveli'!AX25","v":0},"-","-","-","-",{"$f":"IF(U30=0,\"-\",U30*W30)","v":"-"},"-",{"$f":"IF(X30=\"-\",IF(Z30=\"-\",\"-\",Z30),IF(Z30=\"-\",X30,Z30+X30))","v":"-"}]
[null,"7.",{"$nulls":10},{"$f":"IF(H31<>\"\",VLOOKUP(H31,Veriler!$B$4:$D$12,2,FALSE),0)","v":0},null,0,null,{"$f":"IF(H31<>\"\",VLOOKUP(H31,Veriler!$B$4:$D$12,3,FALSE),0)","v":0},0,null,{"$f":"'Ek Ödemem Puantaj Cetveli'!AW27","v":0},{"$f":"'Ek Ödemem Puantaj Cetveli'!AX27","v":0},"-",{"$f":"IF(V31=\"-\",\"-\",AB$11)","v":"-"},"-","-","-","-","-"]
[null,"8.",{"$nulls":10},{"$f":"IF(H32<>\"\",VLOOKUP(H32,Veriler!$B$4:$D$12,2,FALSE),0)","v":0},null,0,null,{"$f":"IF(H32<>\"\",VLOOKUP(H32,Veriler!$B$4:$D$12,3,FALSE),0)","v":0},0,null,{"$f":"'Ek Ödemem Puantaj Cetveli'!AW29","v":0},{"$f":"'Ek Ödemem Puantaj Cetveli'!AX29","v":0},"-",{"$f":"IF(V32=\"-\",\"-\",AB$11)","v":"-"},"-","-","-","-","-"]
[null,"9.",{"$nulls":10},{"$f":"IF(H33<>\"\",VLOOKUP(H33,Veriler!$B$4:$D$12,2,FALSE),0)","v":0},null,0,null,{"$f":"IF(H33<>\"\",VLOOKUP(H33,Veriler!$B$4:$D$12,3,FALSE),0)","v":0},0,null,{"$f":"'Ek Ödemem Puantaj Cetveli'!AW31","v":0},{"$f":"'Ek Ödemem Puantaj Cetveli'!AX31","v":0},"-",{"$f":"IF(V33=\"-\",\"-\",AB$11)","v":"-"},"-","-","-","-","-"]
[null,"10.",{"$nulls":10},{"$f":"IF(H34<>\"\",VLOOKUP(H34,Veriler!$B$4:$D$12,2,FALSE),0)","v":0},null,0,null,{"$f":"IF(H34<>\"\",VLOOKUP(H34,Veriler!$B$4:$D$12,3,FALSE),0)","v":0},0,null,{"$f":"'Ek Ödemem Puantaj Cetveli'!AW33","v":0},{"$f":"'Ek Ödemem Puantaj Cetveli'!AX33","v":0},"-",{"$f":"IF(V34=\"-\",\"-\",AB$11)","v":"-"},"-","-","-","-","-"]
[null,"TOPLAM",{"$nulls":17},{"$f":"SUM(T25:T34)","v":0},{"$f":"SUM(U25:U34)","v":{"v":8800,"d":"8,800"}},{"$f":"SUM(V25:V34)","v":{"v":8800,"d":"8,800"}},null,{"$f":"SUM(X25:X34)","v":0},{"$f":"SUM(Y25:Y34)","v":{"v":0,"d":"0.0000"}},{"$f":"SUM(Z25:Z34)","v":{"v":639.9999999999999,"d":"640.00 "}},{"$f":"SUM(AA25:AA34)","v":{"v":100,"d":"100.0000"}},{"$f":"SUM(AB25:AB34)","v":{"v":639.9999999999999,"d":"640.00 "}}]
[]
[]
[]
[null,null,"Mesai İçi Çalışma",{"$nulls":3},"Üniversite İmkanları Kullanılmıştır."]
[null,null,"Mesai Dışı Çalışma",{"$nulls":3},"Üniversite İmkanları Kullanılmamıştır."]
[]
[]
[null,null,"Yukarıda Beyan Etmiş Olduğum Bilgilerin Doğru Olduğunu Kabul Ediyorum."]
[null,null,"Proje Yürütücüsü / Koordinatör",{"$nulls":13},"Müdür / Dekan"]
[]
[null,null,"…./…./ 20..",{"$nulls":13},"…./…./ 20.."]
[]
[]
[]
[]
[null,null,"Adı Soyadı",{"$nulls":13},"Adı Soyadı"]
[null,null,"İmza",{"$nulls":13},"İmza"]
[]
[]
[]
[null,"AÇIKLAMA : BU ÖDEME CETVELİ PUANTAJ DÜZENLENEREK YAPILACAK ÖDEMELERDE KULLANILACAKTIR. PUAN BİLGİLERİ PUANTAJ CETVELİNDEN OTOMATİK OLARAK AKTARILACAKTIR."]

{"sheet":"EK-2 Dağıtım Cetveli %30-15 ","index":5,"n_rows":68,"n_cols":28,"rows_kept":68,"merged":[[2,1,2,27],[3,1,3,27],[4,1,4,27],[5,1,5,27],[6,1,6,27],[8,1,10,1],[8,2,10,3],[8,4,10,5],[8,6,10,6],[8,7,10,9],[8,10,10,11],[8,12,10,14],[8,15,10,16],[8,17,9,20],[8,21,9,27],[10,17,10,18],[10,19,10,20],[10,21,10,22],[10,23,10,24],[10,25,10,26],[11,2,12,2],[11,3,12,3],[11,7,12,9],[11,10,12,11],[11,12,12,14],[11,15,12,16],[11,17,11,20],[11,21,12,22],[11,23,12,24],[11,25,12,26],[11,27,12,27],[12,4,12,5],[12,17,12,18],[12,19,12,20],[13,4,13,5],[13,7,13,9],[13,10,13,11],[13,12,13,14],[13,15,13,16],[13,17,13,18],[13,19,13,20],[13,21,13,22],[13,23,13,24],[13,25,13,26],[14,4,14,5],[14,7,14,9],[14,10,14,11],[14,12,14,14],[14,15,14,16],[14,17,14,18],[14,19,14,20],[14,21,14,22],[14,23,14,24],[14,25,14,26],[15,4,15,5],[15,7,15,9],[15,10,15,11],[15,12,15,14],[15,15,15,16],[15,17,15,18],[15,19,15,20],[15,21,15,22],[15,23,15,24],[15,25,15,26],[16,4,16,5],[16,7,16,9],[16,10,16,11],[16,12,16,14],[16,15,16,16],[16,17,16,18],[16,19,16,20],[16,21,16,22],[16,23,16,24],[16,25,16,26],[17,4,17,5],[17,7,17,9],[17,10,17,11],[17,12,17,14],[17,15,17,16],[17,17,17,18],[17,19,17,20],[17,21,17,22],[17,23,17,24],[17,25,17,26],[18,4,18,5],[18,7,18,9],[18,10,18,11],[18,12,18,14],[18,15,18,16],[18,17,18,18],[18,19,18,20],[18,21,18,22],[18,23,18,24],[18,25,18,26],[19,4,19,5],[19,7,19,9],[19,10,19,11],[19,12,19,14],[19,15,19,16],[19,17,19,18],[19,19,19,20],[19,21,19,22],[19,23,19,24],[19,25,19,26],[20,4,20,5],[20,7,20,9],[20,10,20,11],[20,12,20,14],[20,15,20,16],[20,17,20,18],[20,19,20,20],[20,21,20,22],[20,23,20,24],[20,25,20,26],[21,4,21,5],[21,7,21,9],[21,10,21,11],[21,12,21,14],[21,15,21,16],[21,17,21,18],[21,19,21,20],[21,21,21,22],[21,23,21,24],[21,25,21,26],[22,4,22,5],[22,7,22,9],[22,10,22,11],[22,12,22,14],[22,15,22,16],[22,17,22,18],[22,19,22,20],[22,21,22,22],[22,23,22,24],[22,25,22,26],[23,4,23,5],[23,7,23,9],[23,10,23,11],[23,12,23,14],[23,15,23,16],[23,17,23,18],[23,19,23,20],[23,21,23,22],[23,23,23,24],[23,25,23,26],[24,4,24,5],[24,7,24,9],[24,10,24,11],[24,12,24,14],[24,15,24,16],[24,17,24,18],[24,19,24,20],[24,21,24,22],[24,23,24,24],[24,25,24,26],[25,4,25,5],[25,7,25,9],[25,10,25,11],[25,12,25,14],[25,15,25,16],[25,17,25,18],[25,19,25,20],[25,21,25,22],[25,23,25,24],[25,25,25,26],[26,4,26,5],[26,7,26,9],[26,10,26,11],[26,12,26,14],[26,15,26,16],[26,17,26,18],[26,19,26,20],[26,21,26,22],[26,23,26,24],[26,25,26,26],[27,4,27,5],[27,7,27,9],[27,10,27,11],[27,12,27,14],[27,15,27,16],[27,17,27,18],[27,19,27,20],[27,21,27,22],[27,23,27,24],[27,25,27,26],[28,4,28,5],[28,7,28,9],[28,10,28,11],[28,12,28,14],[28,15,28,16],[28,17,28,18],[28,19,28,20],[28,21,28,22],[28,23,28,24],[28,25,28,26],[29,4,29,5],[29,7,29,9],[29,10,29,11],[29,12,29,14],[29,15,29,16],[29,17,29,18],[29,19,29,20],[29,21,29,22],[29,23,29,24],[29,25,29,26],[30,1,30,5],[30,7,30,9],[30,10,30,11],[30,12,30,14],[30,15,30,16],[30,17,30,18],[30,19,30,20],[30,21,30,22],[30,23,30,24],[30,25,30,26],[31,1,31,27],[32,1,35,1],[32,2,35,3],[32,4,35,5],[32,6,35,6],[32,7,35,9],[32,10,35,11],[32,12,35,13],[32,14,35,15],[32,16,35,16],[32,17,35,18],[32,19,35,19],[32,20,35,20],[32,21,35,21],[32,22,35,22],[32,23,35,23],[32,24,34,24],[32,25,35,25],[32,26,34,26],[32,27,35,27],[36,2,36,3],[36,4,36,5],[36,7,36,9],[36,10,36,11],[36,12,36,13],[36,14,36,15],[36,17,36,18],[37,2,37,3],[37,4,37,5],[37,7,37,9],[37,10,37,11],[37,12,37,13],[37,14,37,15],[37,17,37,18],[38,2,38,3],[38,4,38,5],[38,7,38,9],[38,10,38,11],[38,12,38,13],[38,14,38,15],[38,17,38,18],[39,2,39,3],[39,4,39,5],[39,7,39,9],[39,10,39,11],[39,12,39,13],[39,14,39,15],[39,17,39,18],[40,2,40,3],[40,4,40,5],[40,7,40,9],[40,10,40,11],[40,12,40,13],[40,14,40,15],[40,17,40,18],[41,2,41,3],[41,4,41,5],[41,7,41,9],[41,10,41,11],[41,12,41,13],[41,14,41,15],[41,17,41,18],[42,2,42,3],[42,4,42,5],[42,7,42,9],[42,10,42,11],[42,12,42,13],[42,14,42,15],[42,17,42,18],[43,2,43,3],[43,4,43,5],[43,7,43,9],[43,10,43,11],[43,12,43,13],[43,14,43,15],[43,17,43,18],[44,2,44,3],[44,4,44,5],[44,7,44,9],[44,10,44,11],[44,12,44,13],[44,14,44,15],[44,17,44,18],[45,2,45,3],[45,4,45,5],[45,7,45,9],[45,10,45,11],[45,12,45,13],[45,14,45,15],[45,17,45,18],[46,1,46,18],[47,1,47,27],[50,2,50,4],[50,6,50,9],[51,2,51,4],[51,6,51,9],[54,2,54,10],[54,15,54,27],[55,2,55,10],[55,16,55,27],[56,1,56,14],[56,15,56,27],[57,2,57,10],[57,16,57,27],[62,2,62,10],[62,16,62,27],[63,2,63,10],[63,16,63,27],[64,1,64,14],[64,15,64,27],[65,15,65,27]]}
[null,"AÇIKLAMA : BU ÖDEME CETVELİ PUANTAJ DÜZENLENMEDEN DAHA ÖNCE YÖNETİM KURULUNCA BELİRLENMİŞ ÇALIŞMA SAATLERİ VE PUANLARIN MANUEL GİRİLMESİ İLE YAPILACAKTIR."]
[]
[null,"T.C. "]
[null,"YALOVA ÜNİVERSİTESİ"]
[null,"FAKÜLTE/ENSTİTÜ/YÜKSEKOKUL/EĞİTİM MERKEZİ"]
[null,"DÖNER SERMAYE ÜCRET DAĞITIM CETVELİ"]
[]
[{"$nulls":27},"EK-2"]
[null,"S.NO","MAKBUZ / DEKONT",null,"FİRMA / KİŞİ ADI",null,"YATAN TUTAR","KDV",null,null,"KDV'SİZ TUTAR",null,"HAZİNE PAYI",null,null,"BAP PAYI",null,"MAL/HİZMET ALIMLARI İLE DİĞER İHTİYAÇLAR VE YÖNETİCİ PAYI İÇİN AYRILAN",{"$nulls":3},"ÖĞRETİM ELEMANI PAYI"]
[]
[{"$nulls":17},"REKTÖRLÜK PAYI",null,"BİRİM PAYI",null,"TOPLAM PUAN (B1+B2)",null,{"$f":"T47+U47","v":100},null,"EK ÖDEME KATSAYISI",null,{"$f":"Z31/X11","v":{"v":318.50666666666666,"d":"318.51 "}}]
[null,null,"TARİH","NO",{"$nulls":3},{"v":1.2,"d":"1.20"},null,null,{"v":1,"d":"100%"},null,{"v":0.01,"d":"1%"},null,null,{"v":0.05,"d":"5%"},null,{"v":0.3,"d":"30%"},{"$nulls":3},{"$f":"K12-(M12+P12+R13+T13)","v":{"v":0.64,"d":"64%"}},null,"ÖDENMİŞ HAKEDİŞ",null,"ÖDENECEK HAKEDİŞ",null,"KALAN TUTAR"]
[{"$nulls":17},{"v":0.1,"d":"10%"},null,{"v":0.2,"d":"20%"}]
[null,1,"2017-01-01","xxxx","FİRMA / KİŞİ ADI",null,{"v":1180,"d":"1,180.00 "},{"$f":"G14-K14","v":{"v":196.66666666666663,"d":"196.67 "}},null,null,{"$f":"G14/H$12","v":{"v":983.3333333333334,"d":"983.33 "}},null,{"$f":"$K14*M$12","v":{"v":9.833333333333334,"d":"9.83 "}},null,null,{"$f":"$K14*P$12","v":{"v":49.16666666666667,"d":"49.17 "}},null,{"$f":"$K14*R$13","v":{"v":98.33333333333334,"d":"98.33 "}},null,{"$f":"$K14*T$13","v":{"v":196.66666666666669,"d":"196.67 "}},null,{"$f":"K14*V$12","v":{"v":629.3333333333334,"d":"629.33 "}},{"$nulls":3},{"$f":"V14-X14","v":{"v":629.3333333333334,"d":"629.33 "}}]
[null,2,{"$nulls":4},{"v":1500,"d":"1,500.00 "},{"v":250,"d":"250.00 "},null,null,{"$f":"G15/H$12","v":{"v":1250,"d":"1,250.00 "}},null,{"$f":"$K15*M$12","v":{"v":12.5,"d":"12.50 "}},null,null,{"$f":"$K15*P$12","v":{"v":62.5,"d":"62.50 "}},null,{"$f":"$K15*R$13","v":{"v":125,"d":"125.00 "}},null,{"$f":"$K15*T$13","v":{"v":250,"d":"250.00 "}},null,{"$f":"K15*V$12","v":{"v":800,"d":"800.00 "}},{"$nulls":3},{"$f":"V15-X15","v":{"v":800,"d":"800.00 "}}]
[null,3,{"$nulls":4},{"v":1800,"d":"1,800.00 "},{"v":300,"d":"300.00 "},null,null,{"$f":"G16/H$12","v":{"v":1500,"d":"1,500.00 "}},null,{"$f":"$K16*M$12","v":{"v":15,"d":"15.00 "}},null,null,{"$f":"$K16*P$12","v":{"v":75,"d":"75.00 "}},null,{"$f":"$K16*R$13","v":{"v":150,"d":"150.00 "}},null,{"$f":"$K16*T$13","v":{"v":300,"d":"300.00 "}},null,{"$f":"K16*V$12","v":{"v":960,"d":"960.00 "}},{"$nulls":3},{"$f":"V16-X16","v":{"v":960,"d":"960.00 "}}]
[{"$nulls":6},{"v":2100,"d":"2,100.00 "},{"v":350,"d":"350.00 "},null,null,{"$f":"G17/H$12","v":{"v":1750,"d":"1,750.00 "}},null,{"$f":"$K17*M$12","v":{"v":17.5,"d":"17.50 "}},null,null,{"$f":"$K17*P$12","v":{"v":87.5,"d":"87.50 "}},null,{"$f":"$K17*R$13","v":{"v":175,"d":"175.00 "}},null,{"$f":"$K17*T$13","v":{"v":350,"d":"350.00 "}},null,{"$f":"K17*V$12","v":{"v":1120,"d":"1,120.00 "}},{"$nulls":3},{"$f":"V17-X17","v":{"v":1120,"d":"1,120.00 "}}]
[{"$nulls":6},{"v":2400,"d":"2,400.00 "},{"v":400,"d":"400.00 "},null,null,{"v":2000,"d":"2,000.00 "},null,{"v":20,"d":"20.00 "},null,null,{"v":100,"d":"100.00 "},null,{"v":200,"d":"200.00 "},null,{"v":400,"d":"400.00 "},null,{"$f":"K18*V$12","v":{"v":1280,"d":"1,280.00 "}},{"$nulls":3},{"$f":"V18-X18","v":{"v":1280,"d":"1,280.00 "}}]
[{"$nulls":6},{"v":6000,"d":"6,000.00 "},{"v":1000,"d":"1,000.00 "},null,null,{"$f":"G19/H$12","v":{"v":5000,"d":"5,000.00 "}},null,{"v":50,"d":"50.00 "},null,null,{"v":250,"d":"250.00 "},null,{"v":500,"d":"500.00 "},null,{"v":1000,"d":"1,000.00 "},null,{"$f":"K19*V$12","v":{"v":3200,"d":"3,200.00 "}},{"$nulls":3},{"$f":"V19-X19","v":{"v":3200,"d":"3,200.00 "}}]
[{"$nulls":6},{"v":9000,"d":"9,000.00 "},{"v":1500,"d":"1,500.00 "},null,null,{"v":7500,"d":"7,500.00 "},null,{"v":75,"d":"75.00 "},null,null,{"v":375,"d":"375.00 "},null,{"v":750,"d":"750.00 "},null,{"v":1500,"d":"1,500.00 "},null,{"v":4800,"d":"4,800.00 "},{"$nulls":3},{"v":4800,"d":"4,800.00 "}]
[{"$nulls":6},{"v":1180,"d":"1,180.00 "},{"$f":"G21-K21","v":{"v":196.66666666666663,"d":"196.67 "}},null,null,{"v":983.3333333333334,"d":"983.33 "},null,{"v":9.833333333333334,"d":"9.83 "},null,null,{"v":49.16666666666667,"d":"49.17 "},null,{"v":98.33333333333334,"d":"98.33 "},null,{"v":196.66666666666669,"d":"196.67 "},null,{"v":629.3333333333334,"d":"629.33 "},{"$nulls":3},{"v":629.3333333333334,"d":"629.33 "}]
[{"$nulls":6},{"v":15000,"d":"15,000.00 "},{"v":2500,"d":"2,500.00 "},null,null,{"v":12500,"d":"12,500.00 "},null,{"v":125,"d":"125.00 "},null,null,{"v":625,"d":"625.00 "},null,{"v":1250,"d":"1,250.00 "},null,{"v":2500,"d":"2,500.00 "},null,{"v":8000,"d":"8,000.00 "},{"$nulls":3},{"v":8000,"d":"8,000.00 "}]
[{"$nulls":6},{"v":1180,"d":"1,180.00 "},{"v":196.66666666666663,"d":"196.67 "},null,null,{"v":983.3333333333334,"d":"983.33 "},null,{"v":9.833333333333334,"d":"9.83 "},null,null,{"v":49.16666666666667,"d":"49.17 "},null,{"v":98.33333333333334,"d":"98.33 "},null,{"v":196.66666666666669,"d":"196.67 "},null,{"v":629.3333333333334,"d":"629.33 "},{"$nulls":3},{"v":629.3333333333334,"d":"629.33 "}]
[{"$nulls":6},{"v":12000,"d":"12,000.00 "},{"v":2000,"d":"2,000.00 "},null,null,{"v":10000,"d":"10,000.00 "},null,{"v":100,"d":"100.00 "},null,null,{"v":500,"d":"500.00 "},null,{"v":1000,"d":"1,000.00 "},null,{"v":2000,"d":"2,000.00 "},null,{"v":6400,"d":"6,400.00 "},{"$nulls":3},{"v":6400,"d":"6,400.00 "}]
[{"$nulls":6},{"v":600,"d":"600.00 "},{"v":100,"d":"100.00 "},null,null,{"v":500,"d":"500.00 "},null,{"v":5,"d":"5.00 "},null,null,{"v":25,"d":"25.00 "},null,{"v":50,"d":"50.00 "},null,{"v":100,"d":"100.00 "},null,{"v":320,"d":"320.00 "},{"$nulls":3},{"v":320,"d":"320.00 "}]
[{"$nulls":6},{"v":900,"d":"900.00 "},{"v":150,"d":"150.00 "},null,null,{"v":750,"d":"750.00 "},null,{"v":7.5,"d":"7.50 "},null,null,{"v":37.5,"d":"37.50 "},null,{"v":75,"d":"75.00 "},null,{"v":150,"d":"150.00 "},null,{"v":480,"d":"480.00 "},{"$nulls":3},{"v":480,"d":"480.00 "}]
[{"$nulls":6},{"v":1000,"d":"1,000.00 "},{"$f":"G27-K29","v":{"v":16.66666666666663,"d":"16.67 "}},null,null,{"v":833.3333333333334,"d":"833.33 "},null,{"v":8.333333333333334,"d":"8.33 "},null,null,{"v":41.66666666666667,"d":"41.67 "},null,{"v":83.33333333333334,"d":"83.33 "},null,{"v":166.66666666666669,"d":"166.67 "},null,{"v":533.3333333333334,"d":"533.33 "},{"$nulls":3},{"v":533.3333333333334,"d":"533.33 "},null,{"$f":"V27-Z27","v":0}]
[{"$nulls":6},{"v":1200,"d":"1,200.00 "},{"$f":"G28-K28","v":{"v":200,"d":"200.00 "}},null,null,{"v":1000,"d":"1,000.00 "},null,{"v":10,"d":"10.00 "},null,null,{"v":50,"d":"50.00 "},null,{"v":100,"d":"100.00 "},null,{"v":200,"d":"200.00 "},null,{"v":640,"d":"640.00 "},{"$nulls":3},{"$f":"V28-X28","v":{"v":640,"d":"640.00 "}}]
[{"$nulls":6},{"v":1180,"d":"1,180.00 "},{"$f":"G29-K29","v":{"v":196.66666666666663,"d":"196.67 "}},null,null,{"v":983.3333333333334,"d":"983.33 "},null,{"$f":"$K29*M$12","v":{"v":9.833333333333334,"d":"9.83 "}},null,null,{"v":49.16666666666667,"d":"49.17 "},null,{"v":98.33333333333334,"d":"98.33 "},null,{"v":196.66666666666669,"d":"196.67 "},null,{"v":629.3333333333334,"d":"629.33 "},{"$nulls":3},{"v":629.3333333333334,"d":"629.33 "}]
[{"$nulls":6},{"v":1500,"d":"1,500.00 "},{"$f":"G30-K30","v":{"v":250,"d":"250.00 "}},null,null,{"v":1250,"d":"1,250.00 "},null,{"v":12.5,"d":"12.50 "},null,null,{"$f":"K30*P$12","v":{"v":62.5,"d":"62.50 "}},null,{"v":125,"d":"125.00 "},null,{"v":250,"d":"250.00 "},null,{"$f":"K30*V$12","v":{"v":800,"d":"800.00 "}},{"$nulls":3},{"v":800,"d":"800.00 "},null,{"$f":"V30-Z30","v":0}]
[null,"TOPLAM",{"$nulls":4},{"$f":"SUM(G14:G30)","v":{"v":59720,"d":"59,720.00 "}},{"$f":"SUM(H14:H30)","v":{"v":9803.333333333332,"d":"9,803.33 "}},null,null,{"$f":"SUM(K14:K30)","v":{"v":49766.66666666668,"d":"49,766.67 "}},null,{"$f":"SUM(M14:O30)","v":{"v":497.66666666666663,"d":"497.67 "}},null,null,{"$f":"SUM(P14:P30)","v":{"v":2488.333333333333,"d":"2,488.33 "}},null,{"$f":"SUM(R14:R30)","v":{"v":4976.666666666666,"d":"4,976.67 "}},null,{"$f":"SUM(T14:T30)","v":{"v":9953.333333333332,"d":"9,953.33 "}},null,{"$f":"SUM(V14:W30)","v":{"v":31850.666666666664,"d":"31,850.67 "}},null,{"$f":"SUM(X14:Y30)","v":0},null,{"$f":"SUM(Z14:AA30)","v":{"v":31850.666666666664,"d":"31,850.67 "}},null,{"$f":"SUM(AB14:AB30)","v":0}]
[]
[null,"S.NO","ADI SOYADI",null,"TC KİMLİK NO",null,"KADRO TİPİ","ÜNVANI",null,null,"EK ÖDEME MATRAHI",null,"MESAİ İÇİ TAVAN   ORAN (%)",null,"MESAİ İÇİ         MATRAHI                 B1",null,"MESAİ DIŞI TAVAN ORAN (%) ","MESAİ DIŞI MATRAHI              B2",null,"B1     PUANI","B2     PUANI","TOPLAM PUAN    B1+B2","EK ÖDEME KATSAYISI","ÖDENECEK         BRÜT TUTAR                       B1","TOPLAM TUTARA ORANI (%)","ÖDENECEK    BRÜT TUTAR                       B2","TOPLAM TUTARA ORANI (%)","ÖDENECEK BRÜT             EK ÖDEME TOPLAMI"]
[]
[]
[{"$nulls":24},"B1",null,"B2"]
[null,"1.","Örnek x",null,"123456789101",null,2547,"Prof.Dr.",null,null,{"v":2500,"d":"2,500.00 "},null,{"$f":"IF(H37<>\"\",VLOOKUP(H37,Veriler!$B$4:$D$12,2,FALSE),0)","v":{"v":950,"d":"950 "}},null,{"$f":"K37*M37%","v":{"v":23750,"d":"23,750.00 "}},null,{"$f":"IF(H37<>\"\",VLOOKUP(H37,Veriler!$B$4:$D$12,3,FALSE),0)","v":{"v":475,"d":"475 "}},{"$f":"K37*Q37%","v":{"v":11875,"d":"11,875.00 "}},null,{"v":30,"d":"30 "},0,{"$f":"IF(T37+U37>0,T37+U37,\"-\")","v":{"v":30,"d":"30 "}},{"$f":"IF(V37=\"-\",\"-\",AB$11)","v":{"v":318.50666666666666,"d":"318.51"}},{"$f":"IF(T37=0,\"-\",T37*W37)","v":{"v":9555.2,"d":"9,555.20 "}},{"$f":"IF(T37=0,\"-\",X37/Z$31*100)","v":{"v":30.000000000000004,"d":"30.0000"}},{"$f":"IF(U37=0,\"-\",U37*W37)","v":"-"},{"$f":"IF(U37=0,\"-\",Z37/Z$31*100)","v":"-"},{"$f":"IF(X37=\"-\",IF(Z37=\"-\",\"-\",Z37),IF(Z37=\"-\",X37,Z37+X37))","v":{"v":9555.2,"d":"9,555.20 "}}]
[null,"2.","Örnek y",null,"123456789102",null,2547,"Doç.Dr.",null,null,{"v":2000,"d":"2,000.00 "},null,{"$f":"IF(H38<>\"\",VLOOKUP(H38,Veriler!$B$4:$D$12,2,FALSE),0)","v":{"v":950,"d":"950 "}},null,{"$f":"K38*M38%","v":{"v":19000,"d":"19,000.00 "}},null,{"$f":"IF(H38<>\"\",VLOOKUP(H38,Veriler!$B$4:$D$12,3,FALSE),0)","v":{"v":475,"d":"475 "}},{"$f":"K38*Q38%","v":{"v":9500,"d":"9,500.00 "}},null,{"v":30,"d":"30 "},0,{"$f":"IF(T38+U38>0,T38+U38,\"-\")","v":{"v":30,"d":"30 "}},{"v":318.50666666666666,"d":"318.51"},{"$f":"IF(T38=0,\"-\",T38*W38)","v":{"v":9555.2,"d":"9,555.20 "}},{"$f":"IF(T38=0,\"-\",X38/Z$31*100)","v":{"v":30.000000000000004,"d":"30.0000"}},{"$f":"IF(U38=0,\"-\",U38*W38)","v":"-"},{"$f":"IF(U38=0,\"-\",Z38/Z$31*100)","v":"-"},{"v":9555.2,"d":"9,555.20 "}]
[null,"3.","Örnek z",null,"123456789103",null,2547,"Dr.Öğr.Gör.",null,null,{"v":1800,"d":"1,800.00 "},null,{"$f":"IF(H39<>\"\",VLOOKUP(H39,Veriler!$B$4:$D$12,2,FALSE),0)","v":{"v":950,"d":"950 "}},null,{"v":17100,"d":"17,100.00 "},null,{"$f":"IF(H39<>\"\",VLOOKUP(H39,Veriler!$B$4:$D$12,3,FALSE),0)","v":{"v":475,"d":"475 "}},{"v":8550,"d":"8,550.00 "},null,0,{"v":40,"d":"40 "},{"v":40,"d":"40 "},{"v":318.50666666666666,"d":"318.51"},"-",{"$f":"IF(T39=0,\"-\",X39/Z$31*100)","v":"-"},{"$f":"IF(U39=0,\"-\",U39*W39)","v":{"v":12740.266666666666,"d":"12740.27"}},{"v":40,"d":"40.0000"},{"v":12740.266666666666,"d":"12,740.27 "}]
[null,"4.",{"$nulls":8},0,null,{"$f":"IF(H40<>\"\",VLOOKUP(H40,Veriler!$B$4:$D$12,2,FALSE),0)","v":0},null,{"$f":"K40*M40%","v":0},null,{"$f":"IF(H40<>\"\",VLOOKUP(H40,Veriler!$B$4:$D$12,3,FALSE),0)","v":0},0,null,0,0,"-","-","-",{"$f":"IF(T40=0,\"-\",X40/Z$31*100)","v":"-"},{"$f":"IF(U40=0,\"-\",U40*W40)","v":"-"},"-","-"]
[null,"5.",{"$nulls":8},0,null,{"$f":"IF(H41<>\"\",VLOOKUP(H41,Veriler!$B$4:$D$12,2,FALSE),0)","v":0},null,{"$f":"K41*M41%","v":0},null,{"$f":"IF(H41<>\"\",VLOOKUP(H41,Veriler!$B$4:$D$12,3,FALSE),0)","v":0},0,null,0,0,"-","-","-",{"$f":"IF(T41=0,\"-\",X41/Z$31*100)","v":"-"},{"$f":"IF(U41=0,\"-\",U41*W41)","v":"-"},"-","-"]
[null,"6.",{"$nulls":10},{"$f":"IF(H42<>\"\",VLOOKUP(H42,Veriler!$B$4:$D$12,2,FALSE),0)","v":0},null,0,null,{"$f":"IF(H42<>\"\",VLOOKUP(H42,Veriler!$B$4:$D$12,3,FALSE),0)","v":0},0,null,0,0,"-","-","-","-",{"$f":"IF(U42=0,\"-\",U42*W42)","v":"-"},"-",{"$f":"IF(X42=\"-\",IF(Z42=\"-\",\"-\",Z42),IF(Z42=\"-\",X42,Z42+X42))","v":"-"}]
[null,"7.",{"$nulls":10},{"$f":"IF(H43<>\"\",VLOOKUP(H43,Veriler!$B$4:$D$12,2,FALSE),0)","v":0},null,0,null,{"$f":"IF(H43<>\"\",VLOOKUP(H43,Veriler!$B$4:$D$12,3,FALSE),0)","v":0},0,null,0,0,"-",{"$f":"IF(V43=\"-\",\"-\",AB$11)","v":"-"},"-","-","-","-","-"]
[null,"8.",{"$nulls":10},{"$f":"IF(H44<>\"\",VLOOKUP(H44,Veriler!$B$4:$D$12,2,FALSE),0)","v":0},null,0,null,{"$f":"IF(H44<>\"\",VLOOKUP(H44,Veriler!$B$4:$D$12,3,FALSE),0)","v":0},0,null,0,0,"-",{"$f":"IF(V44=\"-\",\"-\",AB$11)","v":"-"},"-","-","-","-","-"]
[null,"9.",{"$nulls":10},{"$f":"IF(H45<>\"\",VLOOKUP(H45,Veriler!$B$4:$D$12,2,FALSE),0)","v":0},null,0,null,{"$f":"IF(H45<>\"\",VLOOKUP(H45,Veriler!$B$4:$D$12,3,FALSE),0)","v":0},0,null,0,0,"-",{"$f":"IF(V45=\"-\",\"-\",AB$11)","v":"-"},"-","-","-","-","-"]
[null,"10.",{"$nulls":10},{"$f":"IF(H46<>\"\",VLOOKUP(H46,Veriler!$B$4:$D$12,2,FALSE),0)","v":0},null,0,null,{"$f":"IF(H46<>\"\",VLOOKUP(H46,Veriler!$B$4:$D$12,3,FALSE),0)","v":0},0,null,0,0,"-",{"$f":"IF(V46=\"-\",\"-\",AB$11)","v":"-"},"-","-","-","-","-"]
[null,"TOPLAM",{"$nulls":17},{"$f":"SUM(T37:T46)","v":60},{"$f":"SUM(U37:U46)","v":40},{"$f":"SUM(V37:V46)","v":100},null,{"$f":"SUM(X37:X46)","v":{"v":19110.4,"d":"19,110.40 "}},{"$f":"SUM(Y37:Y46)","v":{"v":60.00000000000001,"d":"60.0000"}},{"$f":"SUM(Z37:Z46)","v":{"v":12740.266666666666,"d":"12,740.27 "}},{"$f":"SUM(AA37:AA46)","v":{"v":40,"d":"40.0000"}},{"$f":"SUM(AB37:AB46)","v":{"v":31850.666666666668,"d":"31,850.67 "}}]
[]
[]
[]
[null,null,"Mesai İçi Çalışma",{"$nulls":3},"Üniversite İmkanları Kullanılmıştır."]
[null,null,"Mesai Dışı Çalışma",{"$nulls":3},"Üniversite İmkanları Kullanılmamıştır."]
[]
[]
[null,null,"Yukarıda Beyan Etmiş Olduğum Bilgilerin Doğru Olduğunu Kabul Ediyorum."]
[null,null,"Proje Yürütücüsü / Koordinatör",{"$nulls":13},"Müdür / Dekan"]
[]
[null,null,"…./…./ 20..",{"$nulls":13},"…./…./ 20.."]
[]
[]
[]
[]
[null,null,"Adı Soyadı",{"$nulls":13},"Adı Soyadı"]
[null,null,"İmza",{"$nulls":13},"İmza"]
[]
[]
[]
[null,"AÇIKLAMA : BU ÖDEME CETVELİ PUANTAJ DÜZENLENMEDEN DAHA ÖNCE YÖNETİM KURULUNCA BELİRLENMİŞ ÇALIŞMA SAATLERİ VE PUANLARIN MANUEL GİRİLMESİ İLE YAPILACAKTIR."]

{"sheet":"EK-3 Dağıtım Cetveli %15","index":6,"n_rows":37,"n_cols":28,"rows_kept":37,"merged":[[0,1,0,27],[2,1,2,27],[3,1,3,27],[4,1,4,27],[5,1,5,27],[6,1,6,27],[8,1,10,1],[8,2,10,3],[8,4,10,5],[8,6,10,6],[8,7,10,9],[8,10,10,11],[8,12,10,14],[8,15,10,16],[8,17,9,20],[8,21,9,27],[10,17,10,18],[10,19,10,20],[10,21,10,24],[10,25,10,26],[11,2,12,2],[11,3,12,3],[11,7,12,9],[11,10,12,11],[11,12,12,14],[11,15,12,16],[11,17,11,20],[11,21,12,22],[11,23,12,24],[11,25,12,26],[11,27,12,27],[12,4,12,5],[12,17,12,18],[12,19,12,20],[13,4,13,5],[13,7,13,9],[13,10,13,11],[13,12,13,14],[13,15,13,16],[13,17,13,18],[13,19,13,20],[13,21,13,22],[13,23,13,24],[13,25,13,26],[14,4,14,5],[14,7,14,9],[14,10,14,11],[14,12,14,14],[14,15,14,16],[14,17,14,18],[14,19,14,20],[14,21,14,22],[14,23,14,24],[14,25,14,26],[15,4,15,5],[15,7,15,9],[15,10,15,11],[15,12,15,14],[15,15,15,16],[15,17,15,18],[15,19,15,20],[15,21,15,22],[15,23,15,24],[15,25,15,26],[16,4,16,5],[16,7,16,9],[16,10,16,11],[16,12,16,14],[16,15,16,16],[16,17,16,18],[16,19,16,20],[16,21,16,22],[16,23,16,24],[16,25,16,26],[17,4,17,5],[17,7,17,9],[17,10,17,11],[17,12,17,14],[17,15,17,16],[17,17,17,18],[17,19,17,20],[17,21,17,22],[17,23,17,24],[17,25,17,26],[18,1,18,5],[18,7,18,9],[18,10,18,11],[18,12,18,14],[18,15,18,16],[18,17,18,18],[18,19,18,20],[18,21,18,22],[18,23,18,24],[18,25,18,26],[19,1,19,27],[20,1,23,1],[20,2,23,3],[20,4,23,5],[20,6,23,6],[20,7,23,9],[20,10,23,11],[20,12,23,14],[21,16,24,26],[24,2,24,3],[24,4,24,5],[24,7,24,9],[24,10,24,11],[24,12,24,14],[25,2,25,3],[25,4,25,5],[25,7,25,9],[25,10,25,11],[25,12,25,14],[25,18,25,20],[25,22,25,25],[26,2,26,3],[26,4,26,5],[26,7,26,9],[26,10,26,11],[26,12,26,14],[26,18,26,20],[26,22,26,25],[27,2,27,3],[27,4,27,5],[27,7,27,9],[27,10,27,11],[27,12,27,14],[28,2,28,3],[28,4,28,5],[28,7,28,9],[28,10,28,11],[28,12,28,14],[28,15,28,27],[29,2,29,3],[29,4,29,5],[29,7,29,9],[29,10,29,11],[29,12,29,14],[29,15,29,27],[30,2,30,3],[30,4,30,5],[30,7,30,9],[30,10,30,11],[30,12,30,14],[30,15,30,27],[31,2,31,3],[31,4,31,5],[31,7,31,9],[31,10,31,11],[31,12,31,14],[31,15,31,27],[32,2,32,3],[32,4,32,5],[32,7,32,9],[32,10,32,11],[32,12,32,14],[32,15,32,27],[33,2,33,3],[33,4,33,5],[33,7,33,9],[33,10,33,11],[33,12,33,14],[33,15,33,27],[34,1,34,9],[34,10,34,11],[34,12,34,14],[35,1,35,27],[36,1,36,27]]}
[null,"AÇIKLAMA : BU ÖDEME CETVELİ ÜNİVERSİTE İMKANLARININ KULLANILMADIĞI İŞLER VEYA BÜNYESİNDE ATÖLYE VE LABORATUVAR OLMAYAN BİRİMLERDE YAPILAN İŞLER İÇİN DAHA ÖNCE PROTOKOL KAPSAMINDA BELİRLENMİŞ                                                                 ÖĞRETİM ELEMANI  / ELEMANLARI KATKI ORANLARININ MANUEL GİRİLMESİ İLE YAPILACAKTIR."]
[]
[null,"T.C. "]
[null,"YALOVA ÜNİVERSİTESİ"]
[null,"FAKÜLTE/ENSTİTÜ/YÜKSEKOKUL/EĞİTİM MERKEZİ"]
[null,"DÖNER SERMAYE ÜCRET DAĞITIM CETVELİ"]
[]
[{"$nulls":27},"EK-3"]
[null,"S.NO","MAKBUZ / DEKONT",null,"FİRMA / KİŞİ ADI",null,"YATAN TUTAR","KDV                            ",null,null,"KDV'SİZ TUTAR",null,"HAZİNE PAYI",null,null,"BAP PAYI",null,"MAL/HİZMET ALIMLARI İLE DİĞER İHTİYAÇLAR VE YÖNETİCİ PAYI İÇİN AYRILAN",{"$nulls":3},"ÖĞRETİM ELEMANI PAYI"]
[]
[{"$nulls":17},"REKTÖRLÜK PAYI",null,"BİRİM PAYI",{"$nulls":5},"TOPLAM KATKI ORANI",null,100]
[null,null,"TARİH","NO",{"$nulls":3},{"v":1.2,"d":"1.20"},null,null,{"v":1,"d":"100%"},null,{"v":0.01,"d":"1%"},null,null,{"v":0.05,"d":"5%"},null,{"v":0.15,"d":"15%"},{"$nulls":3},{"$f":"K12-(M12+P12+R13+T13)","v":{"v":0.79,"d":"79%"}},null,"MASRAF TUTARI VEYA ÖDENMİŞ HAKEDİŞ",null,"ÖDENECEK HAKEDİŞ",null,"KALAN TUTAR"]
[{"$nulls":17},{"v":0.05,"d":"5%"},null,{"v":0.1,"d":"10%"}]
[null,"1.","2017-01-01","xxx","FİRMA / KİŞİ ADI",null,{"v":18000,"d":"18,000.00 "},{"$f":"G14-K14","v":{"v":3000,"d":"3,000.00 "}},null,null,{"$f":"G14/H$12","v":{"v":15000,"d":"15,000.00 "}},null,{"$f":"$K14*M$12","v":{"v":150,"d":"150.00 "}},null,null,{"$f":"$K14*P$12","v":{"v":750,"d":"750.00 "}},null,{"$f":"$K14*R$13","v":{"v":750,"d":"750.00 "}},null,{"$f":"$K14*T$13","v":{"v":1500,"d":"1,500.00 "}},null,{"$f":"K14*V12","v":{"v":11850,"d":"11,850.00 "}},null,0,null,{"$f":"V14-X14","v":{"v":11850,"d":"11,850.00 "}},null,{"$f":"V14-Z14","v":0}]
[null,"2.",{"$nulls":4},{"v":15000,"d":"15,000.00 "},{"$f":"G15-K15","v":{"v":2500,"d":"2,500.00 "}},null,null,{"$f":"G15/H$12","v":{"v":12500,"d":"12,500.00 "}},null,{"$f":"$K15*M$12","v":{"v":125,"d":"125.00 "}},null,null,{"$f":"$K15*P$12","v":{"v":625,"d":"625.00 "}},null,{"$f":"$K15*R$13","v":{"v":625,"d":"625.00 "}},null,{"$f":"$K15*T$13","v":{"v":1250,"d":"1,250.00 "}},null,{"$f":"K15*V12","v":{"v":9875,"d":"9,875.00 "}},null,0,null,{"$f":"V15-X15","v":{"v":9875,"d":"9,875.00 "}},null,{"$f":"V15-Z15","v":0}]
[null,"3.",{"$nulls":4},{"v":24000,"d":"24,000.00 "},{"$f":"G16-K16","v":{"v":4000,"d":"4,000.00 "}},null,null,{"$f":"G16/H$12","v":{"v":20000,"d":"20,000.00 "}},null,{"$f":"$K16*M$12","v":{"v":200,"d":"200.00 "}},null,null,{"$f":"$K16*P$12","v":{"v":1000,"d":"1,000.00 "}},null,{"$f":"$K16*R$13","v":{"v":1000,"d":"1,000.00 "}},null,{"$f":"$K16*T$13","v":{"v":2000,"d":"2,000.00 "}},null,{"$f":"K16*V12","v":{"v":15800,"d":"15,800.00 "}},null,0,null,{"$f":"V16-X16","v":{"v":15800,"d":"15,800.00 "}},null,{"$f":"V16-Z16","v":0}]
[null,"4.",{"$nulls":4},{"v":25000,"d":"25,000.00 "},{"$f":"G17-K17","v":{"v":4166.666666666664,"d":"4,166.67 "}},null,null,{"$f":"G17/H$12","v":{"v":20833.333333333336,"d":"20,833.33 "}},null,{"$f":"$K17*M$12","v":{"v":208.33333333333337,"d":"208.33 "}},null,null,{"$f":"$K17*P$12","v":{"v":1041.6666666666667,"d":"1,041.67 "}},null,{"$f":"$K17*R$13","v":{"v":1041.6666666666667,"d":"1,041.67 "}},null,{"$f":"$K17*T$13","v":{"v":2083.3333333333335,"d":"2,083.33 "}},null,{"$f":"K17*V12","v":{"v":16458.333333333336,"d":"16,458.33 "}},null,0,null,{"$f":"V17-X17","v":{"v":16458.333333333336,"d":"16,458.33 "}},null,{"$f":"V17-Z17","v":0}]
[null,"5.",{"$nulls":4},{"v":36000,"d":"36,000.00 "},{"$f":"G18-K18","v":{"v":6000,"d":"6,000.00 "}},null,null,{"$f":"G18/H$12","v":{"v":30000,"d":"30,000.00 "}},null,{"$f":"$K18*M$12","v":{"v":300,"d":"300.00 "}},null,null,{"$f":"K18*P$12","v":{"v":1500,"d":"1,500.00 "}},null,{"$f":"$K18*R$13","v":{"v":1500,"d":"1,500.00 "}},null,{"$f":"$K18*T$13","v":{"v":3000,"d":"3,000.00 "}},null,{"$f":"K18*V12","v":{"v":23700,"d":"23,700.00 "}},null,0,null,{"$f":"V18-X18","v":{"v":23700,"d":"23,700.00 "}},null,{"$f":"V18-Z18","v":0}]
[null,"TOPLAM",{"$nulls":4},{"$f":"SUM(G14:G18)","v":{"v":118000,"d":"118,000.00 "}},{"$f":"SUM(H14:H18)","v":{"v":19666.666666666664,"d":"19,666.67 "}},null,null,{"$f":"SUM(K14:K18)","v":{"v":98333.33333333334,"d":"98,333.33 "}},null,{"$f":"SUM(M14:O18)","v":{"v":983.3333333333334,"d":"983.33 "}},null,null,{"$f":"SUM(P14:P18)","v":{"v":4916.666666666667,"d":"4,916.67 "}},null,{"$f":"SUM(R14:R18)","v":{"v":4916.666666666667,"d":"4,916.67 "}},null,{"$f":"SUM(T14:T18)","v":{"v":9833.333333333334,"d":"9,833.33 "}},null,{"$f":"SUM(V14:W18)","v":{"v":77683.33333333334,"d":"77,683.33 "}},null,{"$f":"SUM(X14:Y18)","v":0},null,{"$f":"SUM(Z14:AA18)","v":{"v":77683.33333333334,"d":"77,683.33 "}},null,{"$f":"SUM(AB14:AB18)","v":0}]
[]
[null,"S.NO","ADI SOYADI",null,"TC KİMLİK NO",null,"KADRO TİPİ","ÜNVANI",null,null,"KATKI ORANI",null,"ÖDENECEK BRÜT             EK ÖDEME TOPLAMI"]
[{"$nulls":16},"Yapmış olduğum döner sermaye faaliyetini, 2547 Sayılı Yükseköğretim Kanununun 58 inci maddesinin ( e ) bendi kapsamında, Üniversite imkanlarını kullanmadan gerçekleştiğimi beyan ederim"]
[]
[]
[null,"1.","ADI SOYADI",null,"xxxxxxxxxxxxx",null,2547,"Ünvanı",null,null,{"v":1,"d":"100.0000%"},null,{"$f":"Z$19*K25","v":{"v":77683.33333333334,"d":"77,683.33"}},{"$f":"IF(M25=\"-\",\"-\",S$11)","v":{"v":0,"d":"0.00"}},{"$f":"IF(N25=\"-\",\"-\",T$11)","v":"BİRİM PAYI"}]
[null,"2.",{"$nulls":8},{"v":0,"d":"0.0000%"},null,{"$f":"Z$19*K26","v":{"v":0,"d":"0.00"}},{"$f":"IF(M26=\"-\",\"-\",S$11)","v":{"v":0,"d":"0.00"}},{"$f":"IF(N26=\"-\",\"-\",T$11)","v":"BİRİM PAYI"},{"$nulls":3},"Mesai İçi Çalışma",{"$nulls":3},"Üniversite İmkanları Kullanılmıştır."]
[null,"3.",{"$nulls":8},{"v":0,"d":"0.0000%"},null,{"v":0,"d":"0.00"},{"v":0,"d":"0.00"},"BİRİM PAYI",{"$nulls":3},"Mesai Dışı Çalışma",{"$nulls":3},"Üniversite İmkanları Kullanılmamıştır."]
[null,"4.",{"$nulls":8},{"v":0,"d":"0.0000%"},null,{"v":0,"d":"0.00"},{"v":0,"d":"0.00"},"BİRİM PAYI"]
[null,"5.",{"$nulls":8},{"v":0,"d":"0.0000%"},null,{"v":0,"d":"0.00"},{"v":0,"d":"0.00"},"BİRİM PAYI","Proje Yürütücüsü / Koordinatör"]
[null,"6.",{"$nulls":8},{"v":0,"d":"0.0000%"},null,{"v":0,"d":"0.00"},{"v":0,"d":"0.00"},"BİRİM PAYI","…./…./ 20.."]
[null,"7.",{"$nulls":8},{"v":0,"d":"0.0000%"},null,{"v":0,"d":"0.00"},{"v":0,"d":"0.00"},"BİRİM PAYI"]
[null,"8.",{"$nulls":8},{"v":0,"d":"0.0000%"},null,{"v":0,"d":"0.00"},{"v":0,"d":"0.00"},"BİRİM PAYI"]
[null,"9.",{"$nulls":8},{"v":0,"d":"0.0000%"},null,{"v":0,"d":"0.00"},{"v":0,"d":"0.00"},"BİRİM PAYI","Adı Soyadı"]
[null,"10.",{"$nulls":8},{"v":0,"d":"0.0000%"},null,{"v":0,"d":"0.00"},{"v":0,"d":"0.00"},"BİRİM PAYI","İmza"]
[null,"TOPLAM",{"$nulls":8},{"$f":"SUM(K25:K34)","v":{"v":1,"d":"100.0000%"}},null,{"$f":"SUM(M25:M34)","v":{"v":77683.33333333334,"d":"77,683.33"}}]
[]
[null,"AÇIKLAMA : BU ÖDEME CETVELİ ÜNİVERSİTE İMKANLARININ KULLANILMADIĞI İŞLER VEYA BÜNYESİNDE ATÖLYE VE LABORATUVAR OLMAYAN BİRİMLERDE YAPILAN İŞLER İÇİN DAHA ÖNCE PROTOKOL KAPSAMINDA BELİRLENMİŞ                                                                 ÖĞRETİM ELEMANI  / ELEMANLARI KATKI ORANLARININ MANUEL GİRİLMESİ İLE YAPILACAKTIR."]

{"sheet":"EK-4 Dağıtım Cetveli %15","index":7,"n_rows":37,"n_cols":28,"rows_kept":37,"merged":[[0,1,0,27],[2,1,2,27],[3,1,3,27],[4,1,4,27],[5,1,5,27],[6,1,6,27],[8,1,10,1],[8,2,10,3],[8,4,10,5],[8,6,10,6],[8,7,10,9],[8,10,10,11],[8,12,10,14],[8,15,10,16],[8,17,9,20],[8,21,9,27],[10,17,10,18],[10,19,10,20],[10,21,10,24],[10,25,10,26],[11,2,12,2],[11,3,12,3],[11,7,12,9],[11,10,12,11],[11,12,12,14],[11,15,12,16],[11,17,11,20],[11,21,12,22],[11,23,12,24],[11,25,12,26],[11,27,12,27],[12,4,12,5],[12,17,12,18],[12,19,12,20],[13,4,13,5],[13,7,13,9],[13,10,13,11],[13,12,13,14],[13,15,13,16],[13,17,13,18],[13,19,13,20],[13,21,13,22],[13,23,13,24],[13,25,13,26],[14,4,14,5],[14,7,14,9],[14,10,14,11],[14,12,14,14],[14,15,14,16],[14,17,14,18],[14,19,14,20],[14,21,14,22],[14,23,14,24],[14,25,14,26],[15,4,15,5],[15,7,15,9],[15,10,15,11],[15,12,15,14],[15,15,15,16],[15,17,15,18],[15,19,15,20],[15,21,15,22],[15,23,15,24],[15,25,15,26],[16,4,16,5],[16,7,16,9],[16,10,16,11],[16,12,16,14],[16,15,16,16],[16,17,16,18],[16,19,16,20],[16,21,16,22],[16,23,16,24],[16,25,16,26],[17,4,17,5],[17,7,17,9],[17,10,17,11],[17,12,17,14],[17,15,17,16],[17,17,17,18],[17,19,17,20],[17,21,17,22],[17,23,17,24],[17,25,17,26],[18,1,18,5],[18,7,18,9],[18,10,18,11],[18,12,18,14],[18,15,18,16],[18,17,18,18],[18,19,18,20],[18,21,18,22],[18,23,18,24],[18,25,18,26],[19,1,19,27],[20,1,23,1],[20,2,23,3],[20,4,23,5],[20,6,23,6],[20,7,23,9],[20,10,23,11],[20,12,23,14],[21,16,24,26],[24,2,24,3],[24,4,24,5],[24,7,24,9],[24,10,24,11],[24,12,24,14],[25,2,25,3],[25,4,25,5],[25,7,25,9],[25,10,25,11],[25,12,25,14],[25,18,25,20],[25,22,25,25],[26,2,26,3],[26,4,26,5],[26,7,26,9],[26,10,26,11],[26,12,26,14],[26,18,26,20],[26,22,26,25],[27,2,27,3],[27,4,27,5],[27,7,27,9],[27,10,27,11],[27,12,27,14],[28,2,28,3],[28,4,28,5],[28,7,28,9],[28,10,28,11],[28,12,28,14],[28,15,28,27],[29,2,29,3],[29,4,29,5],[29,7,29,9],[29,10,29,11],[29,12,29,14],[29,15,29,27],[30,2,30,3],[30,4,30,5],[30,7,30,9],[30,10,30,11],[30,12,30,14],[30,15,30,27],[31,2,31,3],[31,4,31,5],[31,7,31,9],[31,10,31,11],[31,12,31,14],[31,15,31,27],[32,2,32,3],[32,4,32,5],[32,7,32,9],[32,10,32,11],[32,12,32,14],[32,15,32,27],[33,2,33,3],[33,4,33,5],[33,7,33,9],[33,10,33,11],[33,12,33,14],[33,15,33,27],[34,1,34,9],[34,10,34,11],[34,12,34,14],[35,1,35,27],[36,1,36,27]]}
[null,"AÇIKLAMA : BU ÖDEME CETVELİ 2547 SAYILI KANUNUN 58. MADDESİNİN (K) BENDİ UYARINCA ÜNİVERSİTE-SANAYİ İŞBİRLİĞİ KAPSAMINDA ARAŞTIRMA VE GELİŞTİRME, TASARIM VE YENİLİK PROJELERİ İLE FAALİYETLERİ KAPSAMINDA YAPILAN İŞLER İÇİN DAHA ÖNCE PROTOKOL KAPSAMINDA BELİRLENMİŞ ÖĞRETİM ELEMANI  / ELEMANLARI KATKI ORANLARININ MANUEL GİRİLMESİ İLE YAPILACAKTIR."]
[]
[null,"T.C. "]
[null,"YALOVA ÜNİVERSİTESİ"]
[null,"FAKÜLTE/ENSTİTÜ/YÜKSEKOKUL/EĞİTİM MERKEZİ"]
[null,"DÖNER SERMAYE ÜCRET DAĞITIM CETVELİ"]
[]
[{"$nulls":27},"EK-4"]
[null,"S.NO","MAKBUZ / DEKONT",null,"FİRMA / KİŞİ ADI",null,"YATAN TUTAR","KDV                            ",null,null,"KDV'SİZ TUTAR",null,"HAZİNE PAYI",null,null,"BAP PAYI",null,"MAL/HİZMET ALIMLARI İLE DİĞER İHTİYAÇLAR VE YÖNETİCİ PAYI İÇİN AYRILAN",{"$nulls":3},"ÖĞRETİM ELEMANI PAYI"]
[]
[{"$nulls":17},"REKTÖRLÜK PAYI",null,"BİRİM PAYI",{"$nulls":5},"TOPLAM KATKI ORANI",null,100]
[null,null,"TARİH","NO",{"$nulls":3},{"v":1.2,"d":"1.20"},null,null,{"v":1,"d":"100%"},null,{"v":0,"d":"0%"},null,null,{"v":0,"d":"0%"},null,{"v":0.15,"d":"15%"},{"$nulls":3},{"$f":"K12-(M12+P12+R13+T13)","v":{"v":0.85,"d":"85%"}},null,"MASRAF TUTARI VEYA ÖDENMİŞ HAKEDİŞ",null,"ÖDENECEK HAKEDİŞ",null,"KALAN TUTAR"]
[{"$nulls":17},{"v":0.05,"d":"5%"},null,{"v":0.1,"d":"10%"}]
[null,"1.","2017-01-01","xxx","FİRMA / KİŞİ ADI",null,{"v":18000,"d":"18,000.00 "},{"$f":"G14-K14","v":{"v":3000,"d":"3,000.00 "}},null,null,{"$f":"G14/H$12","v":{"v":15000,"d":"15,000.00 "}},null,{"$f":"$K14*M$12","v":0},null,null,{"$f":"$K14*P$12","v":0},null,{"$f":"$K14*R$13","v":{"v":750,"d":"750.00 "}},null,{"$f":"$K14*T$13","v":{"v":1500,"d":"1,500.00 "}},null,{"$f":"K14*V12","v":{"v":12750,"d":"12,750.00 "}},null,0,null,{"$f":"V14-X14","v":{"v":12750,"d":"12,750.00 "}},null,{"$f":"V14-Z14","v":0}]
[null,"2.",{"$nulls":4},{"v":1800,"d":"1,800.00 "},{"$f":"G15-K15","v":{"v":300,"d":"300.00 "}},null,null,{"$f":"G15/H$12","v":{"v":1500,"d":"1,500.00 "}},null,{"$f":"$K15*M$12","v":0},null,null,{"$f":"$K15*P$12","v":0},null,{"$f":"$K15*R$13","v":{"v":75,"d":"75.00 "}},null,{"$f":"$K15*T$13","v":{"v":150,"d":"150.00 "}},null,{"$f":"K15*V12","v":{"v":1275,"d":"1,275.00 "}},null,0,null,{"$f":"V15-X15","v":{"v":1275,"d":"1,275.00 "}},null,{"$f":"V15-Z15","v":0}]
[null,"3.",{"$nulls":4},{"v":15000,"d":"15,000.00 "},{"$f":"G16-K16","v":{"v":2500,"d":"2,500.00 "}},null,null,{"$f":"G16/H$12","v":{"v":12500,"d":"12,500.00 "}},null,{"$f":"$K16*M$12","v":0},null,null,{"$f":"$K16*P$12","v":0},null,{"$f":"$K16*R$13","v":{"v":625,"d":"625.00 "}},null,{"$f":"$K16*T$13","v":{"v":1250,"d":"1,250.00 "}},null,{"$f":"K16*V12","v":{"v":10625,"d":"10,625.00 "}},null,0,null,{"$f":"V16-X16","v":{"v":10625,"d":"10,625.00 "}},null,{"$f":"V16-Z16","v":0}]
[null,"4.",{"$nulls":4},{"v":1500,"d":"1,500.00 "},{"$f":"G17-K17","v":{"v":250,"d":"250.00 "}},null,null,{"$f":"G17/H$12","v":{"v":1250,"d":"1,250.00 "}},null,{"$f":"$K17*M$12","v":0},null,null,{"$f":"$K17*P$12","v":0},null,{"$f":"$K17*R$13","v":{"v":62.5,"d":"62.50 "}},null,{"$f":"$K17*T$13","v":{"v":125,"d":"125.00 "}},null,{"$f":"K17*V12","v":{"v":1062.5,"d":"1,062.50 "}},null,0,null,{"$f":"V17-X17","v":{"v":1062.5,"d":"1,062.50 "}},null,{"$f":"V17-Z17","v":0}]
[null,"5.",{"$nulls":4},{"v":24000,"d":"24,000.00 "},{"$f":"G18-K18","v":{"v":4000,"d":"4,000.00 "}},null,null,{"$f":"G18/H$12","v":{"v":20000,"d":"20,000.00 "}},null,{"$f":"$K18*M$12","v":0},null,null,{"$f":"K18*P$12","v":0},null,{"$f":"$K18*R$13","v":{"v":1000,"d":"1,000.00 "}},null,{"$f":"$K18*T$13","v":{"v":2000,"d":"2,000.00 "}},null,{"$f":"K18*V12","v":{"v":17000,"d":"17,000.00 "}},null,0,null,{"$f":"V18-X18","v":{"v":17000,"d":"17,000.00 "}},null,{"$f":"V18-Z18","v":0}]
[null,"TOPLAM",{"$nulls":4},{"$f":"SUM(G14:G18)","v":{"v":60300,"d":"60,300.00 "}},{"$f":"SUM(H14:H18)","v":{"v":10050,"d":"10,050.00 "}},null,null,{"$f":"SUM(K14:K18)","v":{"v":50250,"d":"50,250.00 "}},null,{"$f":"SUM(M14:O18)","v":0},null,null,{"$f":"SUM(P14:P18)","v":0},null,{"$f":"SUM(R14:R18)","v":{"v":2512.5,"d":"2,512.50 "}},null,{"$f":"SUM(T14:T18)","v":{"v":5025,"d":"5,025.00 "}},null,{"$f":"SUM(V14:W18)","v":{"v":42712.5,"d":"42,712.50 "}},null,{"$f":"SUM(X14:Y18)","v":0},null,{"$f":"SUM(Z14:AA18)","v":{"v":42712.5,"d":"42,712.50 "}},null,{"$f":"SUM(AB14:AB18)","v":0}]
[]
[null,"S.NO","ADI SOYADI",null,"TC KİMLİK NO",null,"KADRO TİPİ","ÜNVANI",null,null,"KATKI ORANI",null,"ÖDENECEK BRÜT             EK ÖDEME TOPLAMI"]
[{"$nulls":16},"Yapmış olduğum döner sermaye faaliyetini, 2547 Sayılı Yükseköğretim Kanununun 58 inci maddesinin ( k ) bendi kapsamında gerçekleştiğimi beyan ederim"]
[]
[]
[null,"1.","ADI SOYADI",null,"xxxxxxxxxxxxx",null,2547,"Ünvanı",null,null,{"v":1,"d":"100.0000%"},null,{"$f":"Z$19*K25","v":{"v":42712.5,"d":"42,712.50"}},{"$f":"IF(M25=\"-\",\"-\",S$11)","v":{"v":0,"d":"0.00"}},{"$f":"IF(N25=\"-\",\"-\",T$11)","v":"BİRİM PAYI"}]
[null,"2.",{"$nulls":8},{"v":0,"d":"0.0000%"},null,{"$f":"Z$19*K26","v":{"v":0,"d":"0.00"}},{"$f":"IF(M26=\"-\",\"-\",S$11)","v":{"v":0,"d":"0.00"}},"BİRİM PAYI",{"$nulls":3},"Mesai İçi Çalışma",null,null,0,"Üniversite İmkanları Kullanılmıştır."]
[null,"3.",{"$nulls":8},{"v":0,"d":"0.0000%"},null,{"v":0,"d":"0.00"},{"v":0,"d":"0.00"},"BİRİM PAYI",{"$nulls":3},"Mesai Dışı Çalışma",{"$nulls":3},"Üniversite İmkanları Kullanılmamıştır."]
[null,"4.",{"$nulls":8},{"v":0,"d":"0.0000%"},null,{"v":0,"d":"0.00"},{"v":0,"d":"0.00"},"BİRİM PAYI"]
[null,"5.",{"$nulls":8},{"v":0,"d":"0.0000%"},null,{"v":0,"d":"0.00"},{"v":0,"d":"0.00"},"BİRİM PAYI",0]
[null,"6.",{"$nulls":8},{"v":0,"d":"0.0000%"},null,{"v":0,"d":"0.00"},{"v":0,"d":"0.00"},"BİRİM PAYI","…./…./ 20.."]
[null,"7.",{"$nulls":8},{"v":0,"d":"0.0000%"},null,{"v":0,"d":"0.00"},{"v":0,"d":"0.00"},"BİRİM PAYI"]
[null,"8.",{"$nulls":8},{"v":0,"d":"0.0000%"},null,{"v":0,"d":"0.00"},{"v":0,"d":"0.00"},"BİRİM PAYI"]
[null,"9.",{"$nulls":8},{"v":0,"d":"0.0000%"},null,{"v":0,"d":"0.00"},{"v":0,"d":"0.00"},"BİRİM PAYI","Adı Soyadı"]
[null,"10.",{"$nulls":8},{"v":0,"d":"0.0000%"},null,{"v":0,"d":"0.00"},{"v":0,"d":"0.00"},"BİRİM PAYI","İmza"]
[null,"TOPLAM",{"$nulls":8},{"$f":"SUM(K25:K34)","v":{"v":1,"d":"100.0000%"}},null,{"$f":"SUM(M25:M34)","v":{"v":42712.5,"d":"42,712.50"}}]
[]
[null,"AÇIKLAMA : BU ÖDEME CETVELİ ÜNİVERSİTE İMKANLARININ KULLANILMADIĞI İŞLER VEYA BÜNYESİNDE ATÖLYE VE LABORATUVAR OLMAYAN BİRİMLERDE YAPILAN İŞLER İÇİN DAHA ÖNCE PROTOKOL KAPSAMINDA BELİRLENMİŞ                                                                 ÖĞRETİM ELEMANI  / ELEMANLARI KATKI ORANLARININ MANUEL GİRİLMESİ İLE YAPILACAKTIR."]